BEGIN:VCALENDAR
PRODID:NingEventWidget-v1
VERSION:2.0
METHOD:PUBLISH
BEGIN:VTIMEZONE
TZID:Pacific/Midway
X-LIC-LOCATION:Pacific/Midway
BEGIN:STANDARD
TZOFFSETFROM:-1100
TZOFFSETTO:-1100
TZNAME:SST
DTSTART:19700101T000000
END:STANDARD
END:VTIMEZONE
BEGIN:VEVENT
UID:5072275:Event:472816
DTSTAMP:20260422T160640Z
SUMMARY:Valentines Sweet 16 Car Show -Bessemer City NC
DESCRIPTION:The Carolina Cruisers-Valentines Sweet 16 Car Show, Bessem
 er City NC 2012\n\n02/18/2012 - 10:00am\n\n02/18/2012 - 4:00pm\n\nThe 
 Carolina Cruisers-Valentines Sweet 16 Car Show\n1219 Gastonia Hwy., Be
 ssemer City NC\nSaturday Feb. 18th 10am-4pm\nHosted by The Carolina Cr
 uisers\nEvent Info: Scott Jenkins- sjenkinzz@aol.com or The Family P
 izzagalli @ 704-629-6966\nEntry fee $10.00. Join us for some great mus
 ic, great food, & great cars.\nhttp://www.facebook.com/pages/Caroli...
 s/170177254909\nhttp://www.facebook.com/pages/The-Fa...i/437873560426\
 nhttp://carolinacruisers.forumotion.net/\n\n\n\nFor more information v
 isit https://www.southeastwheelsevents.com/events/valentines-sweet-16-
 car-show-bessemer-city-nc
DTSTART;TZID=Pacific/Midway:20120218T100000
DTEND;TZID=Pacific/Midway:20120218T160000
CATEGORIES:car, show
LOCATION:Pizzagalli
WEBSITE:http://Scott Jenkins- sjenkinzz@aol.com
URL:http://Scott Jenkins- sjenkinzz@aol.com
CONTACT:The Family Pizzagalli @ 704-629-6966
ORGANIZER;CN="Michael Thies":https://www.southeastwheelsevents.com/pro
 file/MichaelThies
ATTACH;FMTTYPE="image/jpeg":
ATTENDEE;ROLE=REQ-PARTICIPANT;PARTSTAT=ACCEPTED;RSVP=TRUE;CN="Michael 
 Thies":https://www.southeastwheelsevents.com/profile/MichaelThies
END:VEVENT
END:VCALENDAR
