BEGIN:VCALENDAR
PRODID:NingEventWidget-v1
VERSION:2.0
METHOD:PUBLISH
BEGIN:VTIMEZONE
TZID:Pacific/Midway
X-LIC-LOCATION:Pacific/Midway
BEGIN:STANDARD
TZOFFSETFROM:-1100
TZOFFSETTO:-1100
TZNAME:SST
DTSTART:19700101T000000
END:STANDARD
END:VTIMEZONE
BEGIN:VEVENT
UID:5072275:Event:826517
DTSTAMP:20260422T224425Z
SUMMARY:Annual Festival & Car Show -Van Wyck, SC
DESCRIPTION:16th Annual Celebrate Van Wyck Festival & Car Show. \n\nF
 or more information visit https://www.southeastwheelsevents.com/events
 /van-wyck-sc
DTSTART;TZID=Pacific/Midway:20150912T100000
DTEND;TZID=Pacific/Midway:20150912T150000
CATEGORIES:fundraiser
LOCATION:Community Center Dowtown
WEBSITE:
URL:
CONTACT:Paul Kay 803-804-2329
ORGANIZER:Van Wyck Community Development Club
ATTACH;FMTTYPE="image/jpeg":http://storage.ning.com/topology/rest/1.0/
 file/get/967673104?profile=original
ATTENDEE;ROLE=REQ-PARTICIPANT;PARTSTAT=ACCEPTED;RSVP=TRUE;CN="Celebrat
 e Van Wyck Car Show":https://www.southeastwheelsevents.com/profile/Cel
 ebrateVanWyckCarShow
END:VEVENT
END:VCALENDAR
