BEGIN:VCALENDAR
PRODID:NingEventWidget-v1
VERSION:2.0
METHOD:PUBLISH
BEGIN:VTIMEZONE
TZID:Pacific/Midway
X-LIC-LOCATION:Pacific/Midway
BEGIN:STANDARD
TZOFFSETFROM:-1100
TZOFFSETTO:-1100
TZNAME:SST
DTSTART:19700101T000000
END:STANDARD
END:VTIMEZONE
BEGIN:VEVENT
UID:5072275:Event:622255
DTSTAMP:20260421T225020Z
SUMMARY:VARISITY JR CRUISE IN
DESCRIPTION:VARISITY JR CRUISE IN EVERY TUESDAY 6 PM TILL 9 PM\nHWY 40
 0 DAWSONVILLE GA 30534\nTERRY TALLANT 770-561-4896\n\nFor more informa
 tion visit https://www.southeastwheelsevents.com/events/varisity-jr-cr
 uise-in-5
DTSTART;TZID=Pacific/Midway:20130304T180000
DTEND;TZID=Pacific/Midway:20130304T210000
CATEGORIES:cruise, in
LOCATION:VARISITY JR DAWSONVILLE GA
WEBSITE:
URL:
CONTACT:770-561-4896
ORGANIZER;CN="Terry Tallant":https://www.southeastwheelsevents.com/pro
 file/TerryTallant
ATTACH;FMTTYPE="image/jpeg":
ATTENDEE;ROLE=REQ-PARTICIPANT;PARTSTAT=ACCEPTED;RSVP=TRUE;CN="Terry Ta
 llant":https://www.southeastwheelsevents.com/profile/TerryTallant
END:VEVENT
END:VCALENDAR
