BEGIN:VCALENDAR
PRODID:NingEventWidget-v1
VERSION:2.0
METHOD:PUBLISH
BEGIN:VTIMEZONE
TZID:Pacific/Midway
X-LIC-LOCATION:Pacific/Midway
BEGIN:STANDARD
TZOFFSETFROM:-1100
TZOFFSETTO:-1100
TZNAME:SST
DTSTART:19700101T000000
END:STANDARD
END:VTIMEZONE
BEGIN:VEVENT
UID:5072275:Event:643915
DTSTAMP:20260419T231015Z
SUMMARY:VARSITY JR CRUISE IN -DAWSONVILLE, GA
DESCRIPTION:VARISTY JR CRUISE IN EVERY TUESDAT 6 PM TIL 9 PM\nHWY 400 
 DAWSONVILLE GA 30534 TERRY TALLANT\n770-561-4896\n \n \n \n \n \n
  \n \n \n \n\nFor more information visit https://www.southeastwhee
 lsevents.com/events/varisity-jr-cruise-in-9
DTSTART;TZID=Pacific/Midway:20131008T180000
DTEND;TZID=Pacific/Midway:20131008T210000
CATEGORIES:cruise, in
LOCATION:VARISITY JR DAWDONVILLE
WEBSITE:
URL:
CONTACT:770-561-4896
ORGANIZER;CN="Terry Tallant":https://www.southeastwheelsevents.com/pro
 file/TerryTallant
ATTACH;FMTTYPE="image/jpeg":
ATTENDEE;ROLE=REQ-PARTICIPANT;PARTSTAT=ACCEPTED;RSVP=TRUE;CN="Terry Ta
 llant":https://www.southeastwheelsevents.com/profile/TerryTallant
END:VEVENT
END:VCALENDAR
