BEGIN:VCALENDAR
PRODID:NingEventWidget-v1
VERSION:2.0
METHOD:PUBLISH
BEGIN:VTIMEZONE
TZID:Pacific/Midway
X-LIC-LOCATION:Pacific/Midway
BEGIN:STANDARD
TZOFFSETFROM:-1100
TZOFFSETTO:-1100
TZNAME:SST
DTSTART:19700101T000000
END:STANDARD
END:VTIMEZONE
BEGIN:VEVENT
UID:5072275:Event:546166
DTSTAMP:20260423T053723Z
SUMMARY:VARISITY JR CRUISE IN DAWSONVILLE GA
DESCRIPTION:VARISITY JR CRUISE IN5 PM,TIL 9 PM EVERY TUESDAY\nHWY 400 
 DAWSONVILLE GA TERRY TALLANT 770-561-4896\n\nFor more information visi
 t https://www.southeastwheelsevents.com/events/varisity-jr-cruise-in-d
 awsonville-ga-8
DTSTART;TZID=Pacific/Midway:20120828T180000
DTEND;TZID=Pacific/Midway:20120828T210000
CATEGORIES:cruise, in
LOCATION:VARISITY JR DAWSONVILLE GA
WEBSITE:
URL:
CONTACT:770-561-4896
ORGANIZER;CN="Terry Tallant":https://www.southeastwheelsevents.com/pro
 file/TerryTallant
ATTACH;FMTTYPE="image/jpeg":
ATTENDEE;ROLE=REQ-PARTICIPANT;PARTSTAT=ACCEPTED;RSVP=TRUE;CN="Terry Ta
 llant":https://www.southeastwheelsevents.com/profile/TerryTallant
END:VEVENT
END:VCALENDAR
