BEGIN:VCALENDAR
PRODID:NingEventWidget-v1
VERSION:2.0
METHOD:PUBLISH
BEGIN:VTIMEZONE
TZID:Pacific/Midway
X-LIC-LOCATION:Pacific/Midway
BEGIN:STANDARD
TZOFFSETFROM:-1100
TZOFFSETTO:-1100
TZNAME:SST
DTSTART:19700101T000000
END:STANDARD
END:VTIMEZONE
BEGIN:VEVENT
UID:5072275:Event:1029480
DTSTAMP:20260420T194258Z
SUMMARY:Varsity Gwinnett Cruise-In, Norcross, GA
DESCRIPTION:What'll ya have? A Chili Dog and a FREE and FRIENDLY Month
 ly Cruise-In!\nALL NEW! The Georgia Cool Cruisers and Southeast Wheels
  Events are teaming up for this Every Third Sunday Evening(Except for 
 Easter Sunday) Cruise-In. It is open to ALL Makes-Models-Years!\nWe wi
 ll be playing some great oldies and classic rock! No charge to partici
 pate, but we will be collecting for some of our great charities that w
 e support.\nSo come join the FUN!\n\nFor more information visit https:
 //www.southeastwheelsevents.com/events/varsity-gwinnett-cruise-in-norc
 ross-ga
DTSTART;TZID=Pacific/Midway:20170219T160000
DTEND;TZID=Pacific/Midway:20170219T190000
CATEGORIES:cruise-in, fundraiser
LOCATION:The Varsity Gwinnett
WEBSITE:http://www.GeorgiaCoolCruisers.org
URL:http://www.GeorgiaCoolCruisers.org
CONTACT:404-732-6842
ORGANIZER;CN="Rick Ellis":https://www.southeastwheelsevents.com/profil
 e/RickEllis
ATTACH;FMTTYPE="image/jpeg":http://storage.ning.com/topology/rest/1.0/
 file/get/967728723?profile=original
ATTENDEE;ROLE=REQ-PARTICIPANT;PARTSTAT=ACCEPTED;RSVP=TRUE;CN="Lee Gosn
 ey":https://www.southeastwheelsevents.com/profile/LeeGosney
ATTENDEE;ROLE=REQ-PARTICIPANT;PARTSTAT=ACCEPTED;RSVP=TRUE;CN="Allan Ro
 th":https://www.southeastwheelsevents.com/profile/AllanRoth123
ATTENDEE;ROLE=REQ-PARTICIPANT;PARTSTAT=ACCEPTED;RSVP=TRUE;CN="Rick Ell
 is":https://www.southeastwheelsevents.com/profile/RickEllis
ATTENDEE;ROLE=REQ-PARTICIPANT;PARTSTAT=TENTATIVE;RSVP=TRUE;CN="Robert 
 D. sauer":https://www.southeastwheelsevents.com/profile/RobertDsauer
ATTENDEE;ROLE=REQ-PARTICIPANT;PARTSTAT=TENTATIVE;RSVP=TRUE;CN="Robert 
 Gates":https://www.southeastwheelsevents.com/profile/RobertGates
ATTENDEE;ROLE=REQ-PARTICIPANT;PARTSTAT=TENTATIVE;RSVP=TRUE;CN="Terry B
 uhite":https://www.southeastwheelsevents.com/profile/TerryBuhite
ATTENDEE;ROLE=REQ-PARTICIPANT;PARTSTAT=TENTATIVE;RSVP=TRUE;CN="Robert 
 K. Chitty":https://www.southeastwheelsevents.com/profile/RobertKChitty
END:VEVENT
END:VCALENDAR
