BEGIN:VCALENDAR
PRODID:NingEventWidget-v1
VERSION:2.0
METHOD:PUBLISH
BEGIN:VTIMEZONE
TZID:Pacific/Midway
X-LIC-LOCATION:Pacific/Midway
BEGIN:STANDARD
TZOFFSETFROM:-1100
TZOFFSETTO:-1100
TZNAME:SST
DTSTART:19700101T000000
END:STANDARD
END:VTIMEZONE
BEGIN:VEVENT
UID:5072275:Event:1024493
DTSTAMP:20260420T193701Z
SUMMARY:Varsity Gwinnett Cruise-In
DESCRIPTION:What'll you have? A Chili Dog and a FREE and FRIENDLY Mont
 hly Cruise-In!\nALL NEW! The Georgia Cool Cruisers and Southeast Wheel
 s Events are teaming up for this Every Third Sunday Evening(Except for
  Easter Sunday) Cruise-In. It is open to ALL Makes-Models-Years!\nWe w
 ill be playing some great oldies and classic rock! No charge to partic
 ipate, but we will be collecting for some of our great charities that 
 we support.\nSome join the FUN!\n\n\nFor more information visit https:
 //www.southeastwheelsevents.com/events/varsity-gwinnett-cruise-in
DTSTART;TZID=Pacific/Midway:20170115T160000
DTEND;TZID=Pacific/Midway:20170115T190000
CATEGORIES:cruise-in, fundraiser
LOCATION:The Varsity
WEBSITE:http://www.GeorgiaCoolCruisers.org
URL:http://www.GeorgiaCoolCruisers.org
CONTACT:404-732-6842
ORGANIZER:Rick Ellis & Mike Thies
ATTACH;FMTTYPE="image/jpeg":http://storage.ning.com/topology/rest/1.0/
 file/get/967718081?profile=original
ATTENDEE;ROLE=REQ-PARTICIPANT;PARTSTAT=ACCEPTED;RSVP=TRUE;CN="Rick Ell
 is":https://www.southeastwheelsevents.com/profile/RickEllis
END:VEVENT
END:VCALENDAR
