BEGIN:VCALENDAR
PRODID:NingEventWidget-v1
VERSION:2.0
METHOD:PUBLISH
BEGIN:VTIMEZONE
TZID:Pacific/Midway
X-LIC-LOCATION:Pacific/Midway
BEGIN:STANDARD
TZOFFSETFROM:-1100
TZOFFSETTO:-1100
TZNAME:SST
DTSTART:19700101T000000
END:STANDARD
END:VTIMEZONE
BEGIN:VEVENT
UID:5072275:Event:757059
DTSTAMP:20260425T140344Z
SUMMARY:Varsity Jr Cruise In Dawsonville Ga
DESCRIPTION:Cruise in Varisity jr dawsonville ga hwy 400 6:00 pm terry
  tallant 770-561-4896\n\nFor more information visit https://www.southe
 astwheelsevents.com/events/varsity-jr-cruise-in-dawsonville-ga-2
DTSTART;TZID=Pacific/Midway:20220621T180000
DTEND;TZID=Pacific/Midway:20220621T210000
CATEGORIES:cruise, in
LOCATION:Varsity jr dawsonville ga
WEBSITE:
URL:
CONTACT:770-561-4896
ORGANIZER;CN="Terry Tallant":https://www.southeastwheelsevents.com/pro
 file/TerryTallant
ATTACH;FMTTYPE="image/jpeg":
ATTENDEE;ROLE=REQ-PARTICIPANT;PARTSTAT=ACCEPTED;RSVP=TRUE;CN="Terry Ta
 llant":https://www.southeastwheelsevents.com/profile/TerryTallant
END:VEVENT
END:VCALENDAR
