BEGIN:VCALENDAR
PRODID:NingEventWidget-v1
VERSION:2.0
METHOD:PUBLISH
BEGIN:VTIMEZONE
TZID:Pacific/Midway
X-LIC-LOCATION:Pacific/Midway
BEGIN:STANDARD
TZOFFSETFROM:-1100
TZOFFSETTO:-1100
TZNAME:SST
DTSTART:19700101T000000
END:STANDARD
END:VTIMEZONE
BEGIN:VEVENT
UID:5072275:Event:10989
DTSTAMP:20260420T140009Z
SUMMARY:varsity meet
DESCRIPTION:every first thursaday of the month about 100 or more peopl
 e meet at the downtown varsity off 85.\n\nFor more information visit h
 ttps://www.southeastwheelsevents.com/events/varsity-meet
DTSTART;TZID=Pacific/Midway:20100401T190000
DTEND;TZID=Pacific/Midway:20100401T230000
CATEGORIES:car, meet
LOCATION:downtown atlanta
WEBSITE:
URL:
CONTACT:512-826-9040
ORGANIZER;CN="javier alejandro zuluaga":https://www.southeastwheelseve
 nts.com/profile/javieralejandrozuluaga
ATTACH;FMTTYPE="image/jpeg":
ATTENDEE;ROLE=REQ-PARTICIPANT;PARTSTAT=ACCEPTED;RSVP=TRUE;CN=Raj:https
 ://www.southeastwheelsevents.com/profile/Raj
ATTENDEE;ROLE=REQ-PARTICIPANT;PARTSTAT=ACCEPTED;RSVP=TRUE;CN="javier a
 lejandro zuluaga":https://www.southeastwheelsevents.com/profile/javier
 alejandrozuluaga
END:VEVENT
END:VCALENDAR
