BEGIN:VCALENDAR
PRODID:NingEventWidget-v1
VERSION:2.0
METHOD:PUBLISH
BEGIN:VTIMEZONE
TZID:Pacific/Midway
X-LIC-LOCATION:Pacific/Midway
BEGIN:STANDARD
TZOFFSETFROM:-1100
TZOFFSETTO:-1100
TZNAME:SST
DTSTART:19700101T000000
END:STANDARD
END:VTIMEZONE
BEGIN:VEVENT
UID:5072275:Event:704859
DTSTAMP:20260423T075731Z
SUMMARY:VCCA Area #9 Meeting -Warner Robins, GA
DESCRIPTION:\n13th Annual Area 9 National Meet (Note: Attendance limi
 ted to VCCA members only.)\nHOSTED BY: Central Georgia Region\n\n\nIN
 FORMATION: \nThe Central Georgia Region invites you to our Area #9, 
 SE, 13th Annual National Meet in Warner Robins, Georgia. The registra
 tion deadline is Mar.23, 2015. Meet includes an early bird social, j
 udging school, technical seminar, hospitality social, judges' breakfa
 st, national judging of all vehicles, and an awards banquet at Hanga
 r 1 of the Museum of Aviation. All Chevrolet vehicles, GMC vehicles, 
 and \"Personalized Chevy\" vehicles 25 years old or older will be cord
 ially welcomed! Two tours will be offered on Sat. Our host hotel wil
 l be the Hampton Inn at 4000 Watson Blvd., Warner Robins, GA 31093; c
 all 478-953-9443 for reservations. We have 50 rooms reserved, any not 
 booked by Mar 22 will be released to the public. Mention \"VCCA car Sh
 ow\" for rate of $105 per night. More info and registration forms con
 tact Paul Vianey, 104 Mossland Dr., Perry, GA 31069; ph: 478-987-3528 
 or email pivsnake@aol.com\n\n\n\n\n\n(Expand Info)   (Reduce)\n\n\n
 \nWHEN: Apr 22 through Apr 26, 2015\n\nLOCATION: Warner Robins, GA
  USA\n\nCONTACT:Email:   pivsnake@aol.comPhone:  478-987-3528\n\n
 \nFor more information visit https://www.southeastwheelsevents.com/eve
 nts/vcca-10th-annual-southern-fall-tour-columbia-tn
DTSTART;TZID=Pacific/Midway:20150422T000000
DTEND;TZID=Pacific/Midway:20150426T235900
CATEGORIES:car-show, club, meet
LOCATION:Warner Robins, GA
WEBSITE:http://vcca.org/events_listdetails.php?ID=%2751%27
URL:http://vcca.org/events_listdetails.php?ID=%2751%27
CONTACT:pivsnake@aol.com  478-987-3528
ORGANIZER:VCCA Paul Vianey
ATTACH;FMTTYPE="image/jpeg":http://storage.ning.com/topology/rest/1.0/
 file/get/967628021?profile=original
ATTENDEE;ROLE=REQ-PARTICIPANT;PARTSTAT=ACCEPTED;RSVP=TRUE;CN="Jack Tho
 mas":https://www.southeastwheelsevents.com/profile/JackThomas
END:VEVENT
END:VCALENDAR
