BEGIN:VCALENDAR
PRODID:NingEventWidget-v1
VERSION:2.0
METHOD:PUBLISH
BEGIN:VTIMEZONE
TZID:Pacific/Midway
X-LIC-LOCATION:Pacific/Midway
BEGIN:STANDARD
TZOFFSETFROM:-1100
TZOFFSETTO:-1100
TZNAME:SST
DTSTART:19700101T000000
END:STANDARD
END:VTIMEZONE
BEGIN:VEVENT
UID:5072275:Event:872597
DTSTAMP:20260425T171319Z
SUMMARY:Vendor Village for MotoAmerica Racing -Braselton, Ga
DESCRIPTION:\nThe Vendor Village at MotoAmerica AMA Superbike will be
  held Road Atlanta in Braselton, Georgia from April 15th, 2015 to Apri
 l 17th, 2015.Location:-Road Atlanta in Braselton, Georgia(5300 Winder 
 Highway, Braselton, Georgia 30517)Come be a vendor at the MotoAmerica 
 AMA Superbike! If interested contact Bob Deislinger at bob@ieventsco
 nsulting.com or (434) 549-7030Please Contact For More Information:-(4
 34) 549-7030  About MotoAmerica  MotoAmerica is the new North America
 n roadracing series created in 2014. MotoAmerica is an affiliate of KR
 AVE Group LLC, a partnership that includes three-time 500cc World Gran
 d Prix Champion Wayne Rainey, ex-racer and former manager of Team Robe
 rts Chuck Aksland, motorsports marketing executive Terry Karges, and b
 usinessman Richard Varner.\n\nFor more information visit https://www.s
 outheastwheelsevents.com/events/vendor-village-for-motoamerica-racing-
 braselton-ga
DTSTART;TZID=Pacific/Midway:20150415T000000
DTEND;TZID=Pacific/Midway:20150417T235900
CATEGORIES:motorcycle, racing, vendor, village
LOCATION:Road Atlanta
WEBSITE:http://www.motoamerica.com/
URL:http://www.motoamerica.com/
CONTACT:contact Bob Deislinger (434) 549-7030 bob@ieventsconsulting.co
 m
ORGANIZER:MotoAmerica Racing
ATTACH;FMTTYPE="image/jpeg":http://storage.ning.com/topology/rest/1.0/
 file/get/967680653?profile=original
ATTENDEE;ROLE=REQ-PARTICIPANT;PARTSTAT=ACCEPTED;RSVP=TRUE;CN="Chuck Aa
 ron":https://www.southeastwheelsevents.com/profile/ChuckAaron
END:VEVENT
END:VCALENDAR
