BEGIN:VCALENDAR
PRODID:NingEventWidget-v1
VERSION:2.0
METHOD:PUBLISH
BEGIN:VTIMEZONE
TZID:Pacific/Midway
X-LIC-LOCATION:Pacific/Midway
BEGIN:STANDARD
TZOFFSETFROM:-1100
TZOFFSETTO:-1100
TZNAME:SST
DTSTART:19700101T000000
END:STANDARD
END:VTIMEZONE
BEGIN:VEVENT
UID:5072275:Event:1237472
DTSTAMP:20260420T101230Z
SUMMARY:Venom Recruiting Car Show -Morristown, TN
DESCRIPTION:Venom recruiting car show\r\nCar show and racer reunion an
 d swap meet. Show is open to all makes and models of cars,trucks,jeeps
 ,motorcycles,and race cars . Awards will be given out for best of show
  top 25 best motorcycle,best jeep,best engine,best paint,best interior
 ,most club members,longest distance traveled , best under construction
  best import . Food vendors will be on hand as well. The racer reunion
  starts at 11 am we have l.d ottinger, Randy bethea, brownie king,Trav
 is tiller and a few more. Entry fee is 20 dollars per vehicle. Swap me
 et spaces are 20 dollars each. Feel free to call me at +1423-438-7695 
 pray for good weather ?\n\nFor more information visit https://www.sout
 heastwheelsevents.com/events/venom-recruiting-car-show-morristown-tn
DTSTART;TZID=Pacific/Midway:20220813T083000
DTEND;TZID=Pacific/Midway:20220813T190000
CATEGORIES:car, show, reunion, swap, meet
LOCATION:College Square Mall
WEBSITE:
URL:
CONTACT:Jerry Long 433-438-7595
ORGANIZER:
ATTACH;FMTTYPE="image/jpeg":https://storage.ning.com/topology/rest/1.0
 /file/get/10754927887?profile=original
ATTENDEE;ROLE=REQ-PARTICIPANT;PARTSTAT=ACCEPTED;RSVP=TRUE;CN="Chuck Aa
 ron":https://www.southeastwheelsevents.com/profile/ChuckAaron886
END:VEVENT
END:VCALENDAR
