BEGIN:VCALENDAR
PRODID:NingEventWidget-v1
VERSION:2.0
METHOD:PUBLISH
BEGIN:VTIMEZONE
TZID:Pacific/Midway
X-LIC-LOCATION:Pacific/Midway
BEGIN:STANDARD
TZOFFSETFROM:-1100
TZOFFSETTO:-1100
TZNAME:SST
DTSTART:19700101T000000
END:STANDARD
END:VTIMEZONE
BEGIN:VEVENT
UID:5072275:Event:1275064
DTSTAMP:20260419T083748Z
SUMMARY:Verde Casino
DESCRIPTION:Verde Casino https://verdekaszinok-hu.com egy modern onl
 ine kaszinó platform, amely Curaçao engedéllyel működik, és nemz
 etközi játékosokat szolgál ki, köztük magyar felhasználókat is
 . A kaszinó több ezer játékot kínál, beleértve nyerőgépeket (
 slotokat), asztali játékokat, élő kaszinót és különféle jackp
 ot játékokat, olyan ismert szolgáltatóktól, mint a Pragmatic Play
 , NetEnt és Play’n GO. A platform 2022 körül indult, és azóta f
 olyamatosan bővíti kínálatát, hogy változatos és modern játék
 élményt nyújtson. A Verde Casino emellett vonzó bónuszrendszerrel
  rendelkezik, amely üdvözlő csomagokat, ingyenes pörgetéseket, ca
 shback ajánlatokat és hűségprogramokat tartalmaz, miközben külö
 nféle fizetési módokat támogat, például bankkártyákat, e-pénz
 tárcákat és kriptovalutákat is. A platform mobilbarát, így telef
 onon és tableten is könnyen használható, azonban a játékosoknak 
 mindig érdemes ellenőrizniük a helyi jogszabályokat, mielőtt regi
 sztrálnak vagy játszanak.\n\nFor more information visit https://www.
 southeastwheelsevents.com/events/verde-casino
DTSTART;TZID=Pacific/Midway:20260419T180000
DTEND;TZID=Pacific/Midway:20270101T190000
CATEGORIES:verde, casino
LOCATION:Berbin, Germany
WEBSITE:
URL:
CONTACT:2015550123
ORGANIZER;CN="Jean Parcks":https://www.southeastwheelsevents.com/profi
 le/JeanParcks
ATTACH;FMTTYPE="image/jpeg":
ATTENDEE;ROLE=REQ-PARTICIPANT;PARTSTAT=ACCEPTED;RSVP=TRUE;CN="Jean Par
 cks":https://www.southeastwheelsevents.com/profile/JeanParcks
END:VEVENT
END:VCALENDAR
