BEGIN:VCALENDAR
PRODID:NingEventWidget-v1
VERSION:2.0
METHOD:PUBLISH
BEGIN:VTIMEZONE
TZID:Pacific/Midway
X-LIC-LOCATION:Pacific/Midway
BEGIN:STANDARD
TZOFFSETFROM:-1100
TZOFFSETTO:-1100
TZNAME:SST
DTSTART:19700101T000000
END:STANDARD
END:VTIMEZONE
BEGIN:VEVENT
UID:5072275:Event:1187713
DTSTAMP:20260421T191542Z
SUMMARY:VET SPEED RACING TRACK DAY
DESCRIPTION:Vet Speed Racing will be hosting a track day March 7th fro
 m 10am to 2pm at the Clarksville Speedway! If you’re active duty or 
 retired, you get to come in and race for free! Everyone else it will b
 e $20 to run and $5 to spectate.We will be out there with our canopy s
 et up to help collect funds to help fund future track events and to se
 ll merch. Come on out and support a great cause. You can find Vet Spee
 d Racing on Instagram and they also have a website at vetspeedracing.c
 om.\n\nFor more information visit https://www.southeastwheelsevents.co
 m/events/vet-speed-racing-track-day
DTSTART;TZID=Pacific/Midway:20200307T100000
DTEND;TZID=Pacific/Midway:20200307T140000
CATEGORIES:drag, racing
LOCATION:CLARKSVILLE SPEEDWAY
WEBSITE:
URL:
CONTACT:
ORGANIZER:CLARKSVILLE GEARHEADS C/C
ATTACH;FMTTYPE="image/jpeg":https://storage.ning.com/topology/rest/1.0
 /file/get/3851107362?profile=original
ATTENDEE;ROLE=REQ-PARTICIPANT;PARTSTAT=TENTATIVE;RSVP=TRUE;CN="Jeffrey
  Rutherford":https://www.southeastwheelsevents.com/profile/JeffreyRuth
 erford866
END:VEVENT
END:VCALENDAR
