BEGIN:VCALENDAR
PRODID:NingEventWidget-v1
VERSION:2.0
METHOD:PUBLISH
BEGIN:VTIMEZONE
TZID:Pacific/Midway
X-LIC-LOCATION:Pacific/Midway
BEGIN:STANDARD
TZOFFSETFROM:-1100
TZOFFSETTO:-1100
TZNAME:SST
DTSTART:19700101T000000
END:STANDARD
END:VTIMEZONE
BEGIN:VEVENT
UID:5072275:Event:1175904
DTSTAMP:20260419T044126Z
SUMMARY:3rd Annual VETERANS DAY CAR SHOW, American Legion Post 201, 20
 1 Wills Rd., Alpharetta, GA 30009
DESCRIPTION:Car Show open to all types of cars and trucks. Awards and 
 prizes.Food, music, Vendor Village. Morning coffee and pastries for p
 articipants. Clubhouse open to the public. $25 per entry. Free to spec
 tators. Proceeds go to support our Veterans Programs here and overseas
 ..\n\nGates open for Participants at 9:30 AM.\n\nContact Tom Youngbloo
 d, 678-462-9023, youngbloodtom@hotmail.com\n\nFor more information vis
 it https://www.southeastwheelsevents.com/events/veterans-day-car-show-
 american-legion-post-201-201-wills-rd
DTSTART;TZID=Pacific/Midway:20191109T110000
DTEND;TZID=Pacific/Midway:20191109T140000
CATEGORIES:open, car, show, veterans
LOCATION:American Legion Post 201
WEBSITE:http://ALPost201.com
URL:http://ALPost201.com
CONTACT:678-462-9023
ORGANIZER:Tom Youngblood
ATTACH;FMTTYPE="image/jpeg":https://storage.ning.com/topology/rest/1.0
 /file/get/3441867478?profile=original
ATTENDEE;ROLE=REQ-PARTICIPANT;PARTSTAT=ACCEPTED;RSVP=TRUE;CN="Thomas Y
 oungblood":https://www.southeastwheelsevents.com/profile/ThomasYoungbl
 ood
ATTENDEE;ROLE=REQ-PARTICIPANT;PARTSTAT=TENTATIVE;RSVP=TRUE;CN="JP Brad
 y":https://www.southeastwheelsevents.com/profile/jpbrady
ATTENDEE;ROLE=REQ-PARTICIPANT;PARTSTAT=TENTATIVE;RSVP=TRUE;CN="Bill mu
 sarra":https://www.southeastwheelsevents.com/profile/billmusarra
END:VEVENT
END:VCALENDAR
