BEGIN:VCALENDAR
PRODID:NingEventWidget-v1
VERSION:2.0
METHOD:PUBLISH
BEGIN:VTIMEZONE
TZID:Pacific/Midway
X-LIC-LOCATION:Pacific/Midway
BEGIN:STANDARD
TZOFFSETFROM:-1100
TZOFFSETTO:-1100
TZNAME:SST
DTSTART:19700101T000000
END:STANDARD
END:VTIMEZONE
BEGIN:VEVENT
UID:5072275:Event:1180254
DTSTAMP:20260419T054740Z
SUMMARY:Veterans Day Car, Truck, Jeep Show and Parade - McCaysville, G
 a
DESCRIPTION:Veterans Day Car, Truck, Jeep Show and Parade\n\nFor more 
 information visit https://www.southeastwheelsevents.com/events/veteran
 s-day-car-truck-jeep-show-and-parade-mccaysville-ga
DTSTART;TZID=Pacific/Midway:20191109T090000
DTEND;TZID=Pacific/Midway:20191109T140000
CATEGORIES:car, show, cruise-in
LOCATION:McCaysville, Ga
WEBSITE:
URL:
CONTACT:(678) 233-7287
ORGANIZER:Jim
ATTACH;FMTTYPE="image/jpeg":https://storage.ning.com/topology/rest/1.0
 /file/get/3702099461?profile=original
ATTENDEE;ROLE=REQ-PARTICIPANT;PARTSTAT=ACCEPTED;RSVP=TRUE;CN="Anthony 
 Hopkins":https://www.southeastwheelsevents.com/profile/AnthonyHopkins
END:VEVENT
END:VCALENDAR
