BEGIN:VCALENDAR
PRODID:NingEventWidget-v1
VERSION:2.0
METHOD:PUBLISH
BEGIN:VTIMEZONE
TZID:Pacific/Midway
X-LIC-LOCATION:Pacific/Midway
BEGIN:STANDARD
TZOFFSETFROM:-1100
TZOFFSETTO:-1100
TZNAME:SST
DTSTART:19700101T000000
END:STANDARD
END:VTIMEZONE
BEGIN:VEVENT
UID:5072275:Event:837636
DTSTAMP:20260419T231017Z
SUMMARY:Veterans Day Ceremony -Warner Robins, GA
DESCRIPTION:The Veterans Day Ceremony will be held at American Legion 
 Post 172 in Warner Robins, Georgia on November 11th, 2014.\nLocation:\
 n-American Legion Post 172 in Warner Robins, Georgia(Watson Blvd, Warn
 er Robins, GA)\nA safety briefing will conducted and we will ride to C
 ity Hall for the ceremony. All Riders Welcome. The Post will be servin
 g lunch after the ride for American Legion Members. If you are a veter
 an, spouse or daughter of a Veteran or a son of a Veteran, why not joi
 n while you're there?Event Hours:-Meet up at American Legion Post 172 
 from 9:00am-10:30amPlease Contact For More Information: Virginia Lon
 g-(478) 397-8180-(478) 926-5303\n\nFor more information visit https://
 www.southeastwheelsevents.com/events/veterans-day-ceremony-warner-robi
 ns-ga
DTSTART;TZID=Pacific/Midway:20141111T090000
DTEND;TZID=Pacific/Midway:20141111T160000
CATEGORIES:motorcycle, event, ride
LOCATION:American Legion Post 172
WEBSITE:
URL:
CONTACT:charterdirector172@gmail.com	 virginia.long@us.af.mil
ORGANIZER:American Legion Post 172
ATTACH;FMTTYPE="image/jpeg":http://storage.ning.com/topology/rest/1.0/
 file/get/967671744?profile=original
ATTENDEE;ROLE=REQ-PARTICIPANT;PARTSTAT=ACCEPTED;RSVP=TRUE;CN="Chuck Aa
 ron":https://www.southeastwheelsevents.com/profile/ChuckAaron
END:VEVENT
END:VCALENDAR
