BEGIN:VCALENDAR
PRODID:NingEventWidget-v1
VERSION:2.0
METHOD:PUBLISH
BEGIN:VTIMEZONE
TZID:Pacific/Midway
X-LIC-LOCATION:Pacific/Midway
BEGIN:STANDARD
TZOFFSETFROM:-1100
TZOFFSETTO:-1100
TZNAME:SST
DTSTART:19700101T000000
END:STANDARD
END:VTIMEZONE
BEGIN:VEVENT
UID:5072275:Event:1196923
DTSTAMP:20260423T073231Z
SUMMARY:VETERANS WITH PTSD BENEFIT CAR, TRUCK & MOTORCYCLE SHOW
DESCRIPTION:GREAT FUN - GREAT PRIZES & TROPHIES - HOOTERS FOOD - AND T
 HE DJ PLAYIN THE HITS, OF THE 50'S, 60'S, AND 70'S\n\nFor more informa
 tion visit https://www.southeastwheelsevents.com/events/veterans-with-
 ptsd-benefit-car-show
DTSTART;TZID=Pacific/Midway:20200718T090000
DTEND;TZID=Pacific/Midway:20200718T160000
CATEGORIES:benefit, car, show
LOCATION:HOOTERS
WEBSITE:
URL:
CONTACT:
ORGANIZER:VETERANS WITH PTSD BENEFIT WEEKEND
ATTACH;FMTTYPE="image/jpeg":https://storage.ning.com/topology/rest/1.0
 /file/get/5706555499?profile=original
ATTENDEE;ROLE=REQ-PARTICIPANT;PARTSTAT=ACCEPTED;RSVP=TRUE;CN="Jeffrey 
 Rutherford":https://www.southeastwheelsevents.com/profile/JeffreyRuthe
 rford866
ATTENDEE;ROLE=REQ-PARTICIPANT;PARTSTAT=TENTATIVE;RSVP=TRUE;CN="JP Brad
 y":https://www.southeastwheelsevents.com/profile/jpbrady
ATTENDEE;ROLE=REQ-PARTICIPANT;PARTSTAT=TENTATIVE;RSVP=TRUE;CN="Al Geph
 art":https://www.southeastwheelsevents.com/profile/AlGephart905
END:VEVENT
END:VCALENDAR
