BEGIN:VCALENDAR
PRODID:NingEventWidget-v1
VERSION:2.0
METHOD:PUBLISH
BEGIN:VTIMEZONE
TZID:Pacific/Midway
X-LIC-LOCATION:Pacific/Midway
BEGIN:STANDARD
TZOFFSETFROM:-1100
TZOFFSETTO:-1100
TZNAME:SST
DTSTART:19700101T000000
END:STANDARD
END:VTIMEZONE
BEGIN:VEVENT
UID:5072275:Event:16418
DTSTAMP:20260424T002539Z
SUMMARY:Open Car & Truck Show -North Charleston, SC
DESCRIPTION:Open Car & Truck Show -North Charleston, SC at Northwood M
 all Chuck & Kim Sheldon 843-388-0050\n\nFor more information visit htt
 ps://www.southeastwheelsevents.com/events/vettes-doin-the-charleston-a
 ll
DTSTART;TZID=Pacific/Midway:20130525T100000
DTEND;TZID=Pacific/Midway:20130525T140000
CATEGORIES:car-show
LOCATION:Northwood Mall
WEBSITE:http://www.4cccc.org
URL:http://www.4cccc.org
CONTACT:Chuck & Kim Sheldon 843-388-0050
ORGANIZER:4cccc
ATTACH;FMTTYPE="image/jpeg":http://storage.ning.com/topology/rest/1.0/
 file/get/967574362?profile=original
ATTENDEE;ROLE=REQ-PARTICIPANT;PARTSTAT=ACCEPTED;RSVP=TRUE;CN="Michael 
 Thies":https://www.southeastwheelsevents.com/profile/MichaelThies
END:VEVENT
END:VCALENDAR
