BEGIN:VCALENDAR
PRODID:NingEventWidget-v1
VERSION:2.0
METHOD:PUBLISH
BEGIN:VTIMEZONE
TZID:Pacific/Midway
X-LIC-LOCATION:Pacific/Midway
BEGIN:STANDARD
TZOFFSETFROM:-1100
TZOFFSETTO:-1100
TZNAME:SST
DTSTART:19700101T000000
END:STANDARD
END:VTIMEZONE
BEGIN:VEVENT
UID:5072275:Event:495644
DTSTAMP:20260421T185348Z
SUMMARY:Vettes for Vets Corvette, Car, Bike & Truck Show -McDonough, G
 A
DESCRIPTION:\nVettes for Vets Car, Bike, and Truck show is a benefit f
 undraiser to support the Veteran's Museum at Heritage Park in McDonoug
 h, GA and the National Corvette Museum's Georgia 20th Anniversary Cara
 van. The Vettes for Vets show is open to Corvettes, Cars, Trucks, and 
 Bikes of all makes and models. Trophies will be awarded in all categor
 ies.  There will be food, live entertainment, swap meet, arts and craf
 ts, vendors, door prizes, 50/50 raffle and more. Fun for men, women, a
 nd kids of all ages! Car Show registation is $25 with a $5 discount if
  you pre-register. There is also a $5 military discount. A limited num
 ber of vendor spaces are available starting at only $25 each. Call to 
 reserve your space today. Mark your calendars. This is an event not to
  be missed!\n\n\n\n\n\n\nFor more information visit https://www.southe
 astwheelsevents.com/events/vettes-for-vets-corvette-car-bike-truck-sho
 w
DTSTART;TZID=Pacific/Midway:20140920T090000
DTEND;TZID=Pacific/Midway:20140920T150000
CATEGORIES:car, show, and, festival
LOCATION:Heritage Park Veteran's Museum
WEBSITE:http://www.facebook.com/ga2014caravan
URL:http://www.facebook.com/ga2014caravan
CONTACT:Robert Brown 678-764-6919
ORGANIZER:Vettes for Vets
ATTACH;FMTTYPE="image/jpeg":http://storage.ning.com/topology/rest/1.0/
 file/get/967614365?profile=original
ATTENDEE;ROLE=REQ-PARTICIPANT;PARTSTAT=ACCEPTED;RSVP=TRUE;CN="Robert B
 rown":https://www.southeastwheelsevents.com/profile/RobertBrown
END:VEVENT
END:VCALENDAR
