BEGIN:VCALENDAR
PRODID:NingEventWidget-v1
VERSION:2.0
METHOD:PUBLISH
BEGIN:VTIMEZONE
TZID:Pacific/Midway
X-LIC-LOCATION:Pacific/Midway
BEGIN:STANDARD
TZOFFSETFROM:-1100
TZOFFSETTO:-1100
TZNAME:SST
DTSTART:19700101T000000
END:STANDARD
END:VTIMEZONE
BEGIN:VEVENT
UID:5072275:Event:924581
DTSTAMP:20260425T033506Z
SUMMARY:VetteStock at Millers Ale House -Alpharetta, GA
DESCRIPTION:All Corvette Show sponsored by:\r\nClassic Glass Corvette 
 Club and Millers Ale House\r\nÂ \r\nShow time: 10AM - 3PM\r\nRegistrat
 ion 10am-12pm\r\nÂ \r\n100% of the proceeds from the show go to the Na
 tional Corvette Museum\r\n\r\nâ™¦ Pre-registration $20 (by mail) $21(o
 nline)\r\nâ™¦ On-Site Registration, $25\r\nâ™¦ Trophies for Top 20 Cor
 vettes\r\nâ™¦ 50/50 Drawing\r\nâ™¦ Millerâ€™s Managerâ€™s Choice Award
 \r\nâ™¦ Food & Drink Specials\r\nâ™¦ Miller's Ale House - 10750 Davis 
 Dr - Alpharetta, Georgia 30004\r\nÂ Â  (One block west on Mansell Rd Â
  Exit 8 off GA 400) Â - 678-277-2581\n\nFor more information visit htt
 ps://www.southeastwheelsevents.com/events/vettestock-2015-millers-ale-
 house-alpharetta-ga
DTSTART;TZID=Pacific/Midway:20170826T100000
DTEND;TZID=Pacific/Midway:20170826T150000
CATEGORIES:all, corvette, show, fund, raiser, for, national, museum
LOCATION:Millers Ale House, Alpharetta, GA
WEBSITE:http://www.cgcorvetteclub.com/vettestock/pdfs/flyer.pdf
URL:http://www.cgcorvetteclub.com/vettestock/pdfs/flyer.pdf
CONTACT:404-697-1255
ORGANIZER;CN="Bob Zajicek":https://www.southeastwheelsevents.com/profi
 le/BobZajicek
ATTACH;FMTTYPE="image/jpeg":http://storage.ning.com/topology/rest/1.0/
 file/get/967695163?profile=original
ATTENDEE;ROLE=REQ-PARTICIPANT;PARTSTAT=ACCEPTED;RSVP=TRUE;CN="Bob Zaji
 cek":https://www.southeastwheelsevents.com/profile/BobZajicek
ATTENDEE;ROLE=REQ-PARTICIPANT;PARTSTAT=ACCEPTED;RSVP=TRUE;CN="Chuck Aa
 ron":https://www.southeastwheelsevents.com/profile/ChuckAaron
END:VEVENT
END:VCALENDAR
