BEGIN:VCALENDAR
PRODID:NingEventWidget-v1
VERSION:2.0
METHOD:PUBLISH
BEGIN:VTIMEZONE
TZID:Pacific/Midway
X-LIC-LOCATION:Pacific/Midway
BEGIN:STANDARD
TZOFFSETFROM:-1100
TZOFFSETTO:-1100
TZNAME:SST
DTSTART:19700101T000000
END:STANDARD
END:VTIMEZONE
BEGIN:VEVENT
UID:5072275:Event:1269177
DTSTAMP:20260420T041700Z
SUMMARY:VetteStock 2025
DESCRIPTION:Classic Glass Corvette Club invites you to attend VetteSto
 ck 2025 all-Corvette show at Hudson Grille in Kennesaw, GA. Date: Satu
 rday, Sept 20th. Show time from 10am - 2pm. This is our 23rd year. DJ,
  awards ceremony, raffle, auction, food & drink offered by Hudson Gril
 le-- fun! Go to cgcorvetteclub.com or vettestock.com for more info and
  to register.  Pre-registration opens late July/August 1st. \n\n\n\n
 For more information visit https://www.southeastwheelsevents.com/event
 s/vettestock-2025
DTSTART;TZID=Pacific/Midway:20250920T100000
DTEND;TZID=Pacific/Midway:20250920T140000
CATEGORIES:all, corvette, car, show
LOCATION:Hudson Grille-Kennesaw
WEBSITE:http://www.vettestock.com
URL:http://www.vettestock.com
CONTACT:404-219-5879
ORGANIZER;CN="Steven Cassaniti":https://www.southeastwheelsevents.com/
 profile/StevenCassaniti
ATTACH;FMTTYPE="image/jpeg":https://storage.ning.com/topology/rest/1.0
 /file/get/13650504467?profile=original
ATTENDEE;ROLE=REQ-PARTICIPANT;PARTSTAT=ACCEPTED;RSVP=TRUE;CN="Steven C
 assaniti":https://www.southeastwheelsevents.com/profile/StevenCassanit
 i
END:VEVENT
END:VCALENDAR
