BEGIN:VCALENDAR
PRODID:NingEventWidget-v1
VERSION:2.0
METHOD:PUBLISH
BEGIN:VTIMEZONE
TZID:Pacific/Midway
X-LIC-LOCATION:Pacific/Midway
BEGIN:STANDARD
TZOFFSETFROM:-1100
TZOFFSETTO:-1100
TZNAME:SST
DTSTART:19700101T000000
END:STANDARD
END:VTIMEZONE
BEGIN:VEVENT
UID:5072275:Event:944772
DTSTAMP:20260421T152713Z
SUMMARY:Video shoot in Atlanta, GA
DESCRIPTION:We have a music artist making a video tomorrow afternoon i
 n Atlanta and wants a show quality, old school, dark blue or black Imp
 ala, Chevrolet or Camero convertible. He is a well known artist, fully
  insured. The pay is $500 cash. Must get into Atlanta just after noon.
  Please call Efren Mauricio 404-914-8801.\n\nFor more information visi
 t https://www.southeastwheelsevents.com/events/video-shoot-in-atlanta-
 ga
DTSTART;TZID=Pacific/Midway:20151031T130000
DTEND;TZID=Pacific/Midway:20151031T180000
CATEGORIES:music, video, shoot
LOCATION:Downtown
WEBSITE:
URL:
CONTACT:404-914-8801
ORGANIZER:Efren Mauricio
ATTACH;FMTTYPE="image/jpeg":
ATTENDEE;ROLE=REQ-PARTICIPANT;PARTSTAT=ACCEPTED;RSVP=TRUE;CN="Michael 
 Thies":https://www.southeastwheelsevents.com/profile/MichaelThies
END:VEVENT
END:VCALENDAR
