BEGIN:VCALENDAR
PRODID:NingEventWidget-v1
VERSION:2.0
METHOD:PUBLISH
BEGIN:VTIMEZONE
TZID:Pacific/Midway
X-LIC-LOCATION:Pacific/Midway
BEGIN:STANDARD
TZOFFSETFROM:-1100
TZOFFSETTO:-1100
TZNAME:SST
DTSTART:19700101T000000
END:STANDARD
END:VTIMEZONE
BEGIN:VEVENT
UID:5072275:Event:1196968
DTSTAMP:20260424T044521Z
SUMMARY:Vintage Car Cruise In - St Cloud, Fl
DESCRIPTION:This car show is organized each month on each Wednesday.\n
 \nFor more information visit https://www.southeastwheelsevents.com/eve
 nts/vintage-car-cruise-in-st-cloud-fl
DTSTART;TZID=Pacific/Midway:20201021T170000
DTEND;TZID=Pacific/Midway:20201021T200000
CATEGORIES:car, show, cruise-in, antique, "cars.", vintage, classic, c
 ars
LOCATION:Stone Creek Tavern,
WEBSITE:http://t.ly/emRq
URL:http://t.ly/emRq
CONTACT:(352) 223-2428
ORGANIZER:
ATTACH;FMTTYPE="image/jpeg":https://storage.ning.com/topology/rest/1.0
 /file/get/833625167?profile=original
ATTENDEE;ROLE=REQ-PARTICIPANT;PARTSTAT=ACCEPTED;RSVP=TRUE;CN="Anthony 
 Hopkins":https://www.southeastwheelsevents.com/profile/AnthonyHopkins
END:VEVENT
END:VCALENDAR
