BEGIN:VCALENDAR
PRODID:NingEventWidget-v1
VERSION:2.0
METHOD:PUBLISH
BEGIN:VTIMEZONE
TZID:Pacific/Midway
X-LIC-LOCATION:Pacific/Midway
BEGIN:STANDARD
TZOFFSETFROM:-1100
TZOFFSETTO:-1100
TZNAME:SST
DTSTART:19700101T000000
END:STANDARD
END:VTIMEZONE
BEGIN:VEVENT
UID:5072275:Event:1201364
DTSTAMP:20260420T152935Z
SUMMARY:Vintage Car Show - Acworth, Ga
DESCRIPTION:This car show is organized at the Day's Chevrolet.\n\nFor
  more information visit https://www.southeastwheelsevents.com/events/v
 intage-car-show-acworth-ga
DTSTART;TZID=Pacific/Midway:20200912T090000
DTEND;TZID=Pacific/Midway:20200912T150000
CATEGORIES:car, show, cruise-in, antique, "cars.", vintage, classic, c
 ars, cruise, in
LOCATION:Day's Chevrolet,
WEBSITE:http:///www.supervettesaturday.com
URL:http:///www.supervettesaturday.com
CONTACT:678-269-6042
ORGANIZER:
ATTACH;FMTTYPE="image/jpeg":https://storage.ning.com/topology/rest/1.0
 /file/get/210336766?profile=original
ATTENDEE;ROLE=REQ-PARTICIPANT;PARTSTAT=ACCEPTED;RSVP=TRUE;CN="Anthony 
 Hopkins":https://www.southeastwheelsevents.com/profile/AnthonyHopkins
ATTENDEE;ROLE=REQ-PARTICIPANT;PARTSTAT=TENTATIVE;RSVP=TRUE;CN="JP Brad
 y":https://www.southeastwheelsevents.com/profile/jpbrady
END:VEVENT
END:VCALENDAR
