BEGIN:VCALENDAR
PRODID:NingEventWidget-v1
VERSION:2.0
METHOD:PUBLISH
BEGIN:VTIMEZONE
TZID:Pacific/Midway
X-LIC-LOCATION:Pacific/Midway
BEGIN:STANDARD
TZOFFSETFROM:-1100
TZOFFSETTO:-1100
TZNAME:SST
DTSTART:19700101T000000
END:STANDARD
END:VTIMEZONE
BEGIN:VEVENT
UID:5072275:Event:1198261
DTSTAMP:20260423T144021Z
SUMMARY:Vintage Car Show - Coral Springs, Fl
DESCRIPTION:This car show is organized each month on the last Saturday
 .\n\nFor more information visit https://www.southeastwheelsevents.com/
 events/vintage-car-show-coral-springs-fl-2
DTSTART;TZID=Pacific/Midway:20201226T090000
DTEND;TZID=Pacific/Midway:20201226T120000
CATEGORIES:car, show, cruise-in, antique, "cars.", vintage, classic, c
 ars
LOCATION:Gateway Classic Cars,
WEBSITE:http://www.gatewayclassiccars.com/cars-and-coffee
URL:http://www.gatewayclassiccars.com/cars-and-coffee
CONTACT:(618) 589-9952; Marketing@gatewayclassiccars.com
ORGANIZER:
ATTACH;FMTTYPE="image/jpeg":https://storage.ning.com/topology/rest/1.0
 /file/get/833625167?profile=original
ATTENDEE;ROLE=REQ-PARTICIPANT;PARTSTAT=ACCEPTED;RSVP=TRUE;CN="Anthony 
 Hopkins":https://www.southeastwheelsevents.com/profile/AnthonyHopkins
END:VEVENT
END:VCALENDAR
