BEGIN:VCALENDAR
PRODID:NingEventWidget-v1
VERSION:2.0
METHOD:PUBLISH
BEGIN:VTIMEZONE
TZID:Pacific/Midway
X-LIC-LOCATION:Pacific/Midway
BEGIN:STANDARD
TZOFFSETFROM:-1100
TZOFFSETTO:-1100
TZNAME:SST
DTSTART:19700101T000000
END:STANDARD
END:VTIMEZONE
BEGIN:VEVENT
UID:5072275:Event:1185916
DTSTAMP:20260423T164006Z
SUMMARY:Classic Car Show - Kissimmee, Fl
DESCRIPTION:Free Entry. Giveaways. Cash Prizes.\nThis show is organize
 d each month on the fourth Sunday at the Old Town in Kissimmee, Florid
 a.\n\nFor more information visit https://www.southeastwheelsevents.com
 /events/vintage-car-show-cruise-in-kissimmee-fl
DTSTART;TZID=Pacific/Midway:20200628T130000
DTEND;TZID=Pacific/Midway:20200628T210000
CATEGORIES:car, show, cruise-in, antique, "cars.", vintage, classic, c
 ars
LOCATION:Old Town,
WEBSITE:https://www.google.com/maps?q=5770+W.+Irlo+Bronson+Memorial+Hw
 y.,+Kissimmee,+FL+34746&amp;amp;amp;amp;amp;amp;amp;amp;amp;um=1&amp;a
 mp;amp;amp;amp;amp;amp;amp;amp;ie=UTF-8&amp;amp;amp;amp;amp;amp;amp;am
 p;amp;sa=X&amp;amp;amp;amp;amp;amp;amp;amp;amp;ved=2ahUKEwibu6S-qojmAh
 XP4XMBHcwjAU0Q_AUoAXoECA4QAw
URL:https://www.google.com/maps?q=5770+W.+Irlo+Bronson+Memorial+Hwy.,+
 Kissimmee,+FL+34746&amp;amp;amp;amp;amp;amp;amp;amp;amp;um=1&amp;amp;a
 mp;amp;amp;amp;amp;amp;amp;ie=UTF-8&amp;amp;amp;amp;amp;amp;amp;amp;am
 p;sa=X&amp;amp;amp;amp;amp;amp;amp;amp;amp;ved=2ahUKEwibu6S-qojmAhXP4X
 MBHcwjAU0Q_AUoAXoECA4QAw
CONTACT:(407) 396-4888; info@myoldtownusa.com
ORGANIZER:
ATTACH;FMTTYPE="image/jpeg":https://storage.ning.com/topology/rest/1.0
 /file/get/3741137146?profile=original
ATTENDEE;ROLE=REQ-PARTICIPANT;PARTSTAT=ACCEPTED;RSVP=TRUE;CN="Anthony 
 Hopkins":https://www.southeastwheelsevents.com/profile/AnthonyHopkins
END:VEVENT
END:VCALENDAR
