BEGIN:VCALENDAR
PRODID:NingEventWidget-v1
VERSION:2.0
METHOD:PUBLISH
BEGIN:VTIMEZONE
TZID:Pacific/Midway
X-LIC-LOCATION:Pacific/Midway
BEGIN:STANDARD
TZOFFSETFROM:-1100
TZOFFSETTO:-1100
TZNAME:SST
DTSTART:19700101T000000
END:STANDARD
END:VTIMEZONE
BEGIN:VEVENT
UID:5072275:Event:1200134
DTSTAMP:20260423T150533Z
SUMMARY:Vintage Car Show - Deland, Fl
DESCRIPTION:This car show is organized each month on the third Saturda
 y. Organized at Downtown Deland.\n\nFor more information visit https:/
 /www.southeastwheelsevents.com/events/vintage-car-show-deland-fl-1
DTSTART;TZID=Pacific/Midway:20201121T150000
DTEND;TZID=Pacific/Midway:20201121T200000
CATEGORIES:car, show, cruise-in, antique, "cars.", vintage, classic, c
 ars
LOCATION:Downtown Deland,
WEBSITE:https://jonthespot1.wixsite.com/westvolusiaautoevent
URL:https://jonthespot1.wixsite.com/westvolusiaautoevent
CONTACT:(386) 527-2635
ORGANIZER:Robert
ATTACH;FMTTYPE="image/jpeg":https://storage.ning.com/topology/rest/1.0
 /file/get/3817597582?profile=original
ATTENDEE;ROLE=REQ-PARTICIPANT;PARTSTAT=ACCEPTED;RSVP=TRUE;CN="Anthony 
 Hopkins":https://www.southeastwheelsevents.com/profile/AnthonyHopkins
END:VEVENT
END:VCALENDAR
