BEGIN:VCALENDAR
PRODID:NingEventWidget-v1
VERSION:2.0
METHOD:PUBLISH
BEGIN:VTIMEZONE
TZID:Pacific/Midway
X-LIC-LOCATION:Pacific/Midway
BEGIN:STANDARD
TZOFFSETFROM:-1100
TZOFFSETTO:-1100
TZNAME:SST
DTSTART:19700101T000000
END:STANDARD
END:VTIMEZONE
BEGIN:VEVENT
UID:5072275:Event:1191031
DTSTAMP:20260421T000824Z
SUMMARY:Vintage Car Show - Hampton, Ga
DESCRIPTION:This car show is organized at the Atlanta Motor Speedway.
 \n\nFor more information visit https://www.southeastwheelsevents.com/e
 vents/vintage-car-show-hampton-ga
DTSTART;TZID=Pacific/Midway:20200426T090000
DTEND;TZID=Pacific/Midway:20200426T160000
CATEGORIES:car, show, cruise-in
LOCATION:Atlanta Motor Speedway,
WEBSITE:https://www.google.com/maps/place/Atlanta+Motor+Speedway/@33.3
 859803,-84.3185012,17z/data=!3m1!4b1!4m5!3m4!1s0x88f4f432cc020fb7:0xaa
 9219571f826eeb!8m2!3d33.3859803!4d-84.3163125
URL:https://www.google.com/maps/place/Atlanta+Motor+Speedway/@33.38598
 03,-84.3185012,17z/data=!3m1!4b1!4m5!3m4!1s0x88f4f432cc020fb7:0xaa9219
 571f826eeb!8m2!3d33.3859803!4d-84.3163125
CONTACT:770-946-3954; taustad@atlantamotorspeedway.com
ORGANIZER:Ted Austad
ATTACH;FMTTYPE="image/jpeg":https://storage.ning.com/topology/rest/1.0
 /file/get/3722329330?profile=original
ATTENDEE;ROLE=REQ-PARTICIPANT;PARTSTAT=ACCEPTED;RSVP=TRUE;CN="Anthony 
 Hopkins":https://www.southeastwheelsevents.com/profile/AnthonyHopkins
END:VEVENT
END:VCALENDAR
