BEGIN:VCALENDAR
PRODID:NingEventWidget-v1
VERSION:2.0
METHOD:PUBLISH
BEGIN:VTIMEZONE
TZID:Pacific/Midway
X-LIC-LOCATION:Pacific/Midway
BEGIN:STANDARD
TZOFFSETFROM:-1100
TZOFFSETTO:-1100
TZNAME:SST
DTSTART:19700101T000000
END:STANDARD
END:VTIMEZONE
BEGIN:VEVENT
UID:5072275:Event:1189046
DTSTAMP:20260424T043755Z
SUMMARY:Vintage Car Show - Orlando, Fl
DESCRIPTION:This show is organized each Third Wednesday at the Ace Caf
 e.\n\nFor more information visit https://www.southeastwheelsevents.com
 /events/vintage-car-show-orlando-fl-4
DTSTART;TZID=Pacific/Midway:20200715T180000
DTEND;TZID=Pacific/Midway:20200715T210000
CATEGORIES:car, show, cruise-in
LOCATION:Ace Cafe,
WEBSITE:https://www.google.com/maps?q=100+W.+Livingston+St.,+Orlando,+
 Fl&amp;amp;amp;amp;amp;amp;amp;amp;um=1&amp;amp;amp;amp;amp;amp;amp;am
 p;ie=UTF-8&amp;amp;amp;amp;amp;amp;amp;amp;sa=X&amp;amp;amp;amp;amp;am
 p;amp;amp;ved=2ahUKEwjVp7vZlNznAhWk4HMBHWjHD0gQ_AUoAXoECA4QAw
URL:https://www.google.com/maps?q=100+W.+Livingston+St.,+Orlando,+Fl&a
 mp;amp;amp;amp;amp;amp;amp;amp;um=1&amp;amp;amp;amp;amp;amp;amp;amp;ie
 =UTF-8&amp;amp;amp;amp;amp;amp;amp;amp;sa=X&amp;amp;amp;amp;amp;amp;am
 p;amp;ved=2ahUKEwjVp7vZlNznAhWk4HMBHWjHD0gQ_AUoAXoECA4QAw
CONTACT:(407) 996-6686; alee@acecafeusa.com
ORGANIZER:Alee
ATTACH;FMTTYPE="image/jpeg":https://storage.ning.com/topology/rest/1.0
 /file/get/3817484162?profile=original
ATTENDEE;ROLE=REQ-PARTICIPANT;PARTSTAT=ACCEPTED;RSVP=TRUE;CN="Anthony 
 Hopkins":https://www.southeastwheelsevents.com/profile/AnthonyHopkins
END:VEVENT
END:VCALENDAR
