BEGIN:VCALENDAR
PRODID:NingEventWidget-v1
VERSION:2.0
METHOD:PUBLISH
BEGIN:VTIMEZONE
TZID:Pacific/Midway
X-LIC-LOCATION:Pacific/Midway
BEGIN:STANDARD
TZOFFSETFROM:-1100
TZOFFSETTO:-1100
TZNAME:SST
DTSTART:19700101T000000
END:STANDARD
END:VTIMEZONE
BEGIN:VEVENT
UID:5072275:Event:1201095
DTSTAMP:20260423T193917Z
SUMMARY:Vintage Car Show - Sorrento, Fl
DESCRIPTION:This car show is organized on third Sunday.      \n\nF
 or more information visit https://www.southeastwheelsevents.com/events
 /vintage-car-show-sorrento-fl-2
DTSTART;TZID=Pacific/Midway:20200816T120000
DTEND;TZID=Pacific/Midway:20200816T150000
CATEGORIES:car, show, cruise-in, antique, "cars.", vintage, classic, c
 ars, cruise, in
LOCATION:JJ's Lounge and Package,
WEBSITE:https://www.facebook.com/pg/JJsLoungeSorrentoFl/
URL:https://www.facebook.com/pg/JJsLoungeSorrentoFl/
CONTACT:(352) 383-1400
ORGANIZER:
ATTACH;FMTTYPE="image/jpeg":https://storage.ning.com/topology/rest/1.0
 /file/get/833625167?profile=original
ATTENDEE;ROLE=REQ-PARTICIPANT;PARTSTAT=ACCEPTED;RSVP=TRUE;CN="Anthony 
 Hopkins":https://www.southeastwheelsevents.com/profile/AnthonyHopkins
END:VEVENT
END:VCALENDAR
