BEGIN:VCALENDAR
PRODID:NingEventWidget-v1
VERSION:2.0
METHOD:PUBLISH
BEGIN:VTIMEZONE
TZID:Pacific/Midway
X-LIC-LOCATION:Pacific/Midway
BEGIN:STANDARD
TZOFFSETFROM:-1100
TZOFFSETTO:-1100
TZNAME:SST
DTSTART:19700101T000000
END:STANDARD
END:VTIMEZONE
BEGIN:VEVENT
UID:5072275:Event:1188986
DTSTAMP:20260421T054359Z
SUMMARY:Vintage Car Show - Stuart, Fl
DESCRIPTION:This show is organized each Tuesday at Lowe's. Facilitated
  by Lew's Crew and Carpo Auto Spa of Stuart.\n\nFor more information v
 isit https://www.southeastwheelsevents.com/events/vintage-car-show-stu
 art-fl-7
DTSTART;TZID=Pacific/Midway:20200825T173000
DTEND;TZID=Pacific/Midway:20200825T193000
CATEGORIES:car, show, cruise-in
LOCATION:Lowe's,
WEBSITE:https://www.google.com/maps/place/Lowe&amp;amp;amp;amp;amp;amp
 ;amp;#039;s+Home+Improvement/@27.1601422,-80.2272205,17z/data=!4m5!3m4
 !1s0x88deddab5a00c2dd:0xae16605aab614fcb!8m2!3d27.1601422!4d-80.225031
 8
URL:https://www.google.com/maps/place/Lowe&amp;amp;amp;amp;amp;amp;amp
 ;#039;s+Home+Improvement/@27.1601422,-80.2272205,17z/data=!4m5!3m4!1s0
 x88deddab5a00c2dd:0xae16605aab614fcb!8m2!3d27.1601422!4d-80.2250318
CONTACT:jimserra117@yahoo.com; (772) 285-3320
ORGANIZER:Jim Serra
ATTACH;FMTTYPE="image/jpeg":https://storage.ning.com/topology/rest/1.0
 /file/get/3817566215?profile=original
ATTENDEE;ROLE=REQ-PARTICIPANT;PARTSTAT=ACCEPTED;RSVP=TRUE;CN="Anthony 
 Hopkins":https://www.southeastwheelsevents.com/profile/AnthonyHopkins
END:VEVENT
END:VCALENDAR
