BEGIN:VCALENDAR
PRODID:NingEventWidget-v1
VERSION:2.0
METHOD:PUBLISH
BEGIN:VTIMEZONE
TZID:Pacific/Midway
X-LIC-LOCATION:Pacific/Midway
BEGIN:STANDARD
TZOFFSETFROM:-1100
TZOFFSETTO:-1100
TZNAME:SST
DTSTART:19700101T000000
END:STANDARD
END:VTIMEZONE
BEGIN:VEVENT
UID:5072275:Event:1200925
DTSTAMP:20260420T103345Z
SUMMARY:Vintage Car Show - Weddington, Nc
DESCRIPTION:This car show is organized each month on the third Saturda
 y at the Harris Teeter.\n\nFor more information visit https://www.sout
 heastwheelsevents.com/events/vintage-car-show-weddington-nc
DTSTART;TZID=Pacific/Midway:20200919T070000
DTEND;TZID=Pacific/Midway:20200919T100000
CATEGORIES:car, show, cruise-in, antique, "cars.", vintage, classic, c
 ars, cruise, in, annual
LOCATION:Harris Teeter,
WEBSITE:https://www.facebook.com/events/786287831742334/?event_time_id
 =786287835075667
URL:https://www.facebook.com/events/786287831742334/?event_time_id=786
 287835075667
CONTACT:+1 704-847-5955
ORGANIZER:
ATTACH;FMTTYPE="image/jpeg":https://storage.ning.com/topology/rest/1.0
 /file/get/169869466?profile=original
ATTENDEE;ROLE=REQ-PARTICIPANT;PARTSTAT=ACCEPTED;RSVP=TRUE;CN="Anthony 
 Hopkins":https://www.southeastwheelsevents.com/profile/AnthonyHopkins
END:VEVENT
END:VCALENDAR
