BEGIN:VCALENDAR
PRODID:NingEventWidget-v1
VERSION:2.0
METHOD:PUBLISH
BEGIN:VTIMEZONE
TZID:Pacific/Midway
X-LIC-LOCATION:Pacific/Midway
BEGIN:STANDARD
TZOFFSETFROM:-1100
TZOFFSETTO:-1100
TZNAME:SST
DTSTART:19700101T000000
END:STANDARD
END:VTIMEZONE
BEGIN:VEVENT
UID:5072275:Event:700980
DTSTAMP:20260424T105027Z
SUMMARY:Vintage Tin Car Show, -Lake Lure, NC
DESCRIPTION:Vintage Tin Car Show, Rumbling Bald Resort, Vehicles 1982 
 or older, Reg. $20, 8am-4pm, Info: 828.245.3383.\n\nFor more informati
 on visit https://www.southeastwheelsevents.com/events/vintage-tin-car-
 show-lake-lure-nc
DTSTART;TZID=Pacific/Midway:20131005T080000
DTEND;TZID=Pacific/Midway:20131005T160000
CATEGORIES:car-show
LOCATION:Rumbling Bald Resort
WEBSITE:
URL:
CONTACT:828.245.3383.
ORGANIZER:Vintage Car Show
ATTACH;FMTTYPE="image/jpeg":http://storage.ning.com/topology/rest/1.0/
 file/get/967645173?profile=original
ATTENDEE;ROLE=REQ-PARTICIPANT;PARTSTAT=ACCEPTED;RSVP=TRUE;CN="Jack Tho
 mas":https://www.southeastwheelsevents.com/profile/JackThomas
END:VEVENT
END:VCALENDAR
