BEGIN:VCALENDAR
PRODID:NingEventWidget-v1
VERSION:2.0
METHOD:PUBLISH
BEGIN:VTIMEZONE
TZID:Pacific/Midway
X-LIC-LOCATION:Pacific/Midway
BEGIN:STANDARD
TZOFFSETFROM:-1100
TZOFFSETTO:-1100
TZNAME:SST
DTSTART:19700101T000000
END:STANDARD
END:VTIMEZONE
BEGIN:VEVENT
UID:5072275:Event:759785
DTSTAMP:20260421T114136Z
SUMMARY:vintage tin hot rods swap meet, cartersville, ga
DESCRIPTION: our monthley swap meet at the american legion fair groun
 ds, in cartersviile, wy 41, turn at mcdonalds onto mlk dr behind mcdon
 alds.  april 12, 2014. gates open at 6:00 am for vendors, 7:00 am for
  buyers and spectators.\nvendor space-20.00\ndrive your hot rod , park
  5.00, car and driver\nspectators and buyers, 5.00, children under 12,
  w/adult, free\npart of gate receipts go to the american legion for th
 ere veterans programs\ninfo, mark-678-713-6220\nmarkl615@aol.com   h
 elp us to make this the MONTHLY go to event in north ga.\n \n\nFor mo
 re information visit https://www.southeastwheelsevents.com/events/vint
 age-tin-hot-rods-swap-meet-cartersville-ga
DTSTART;TZID=Pacific/Midway:20140412T180000
DTEND;TZID=Pacific/Midway:20140412T190000
CATEGORIES:automotive, parts, vehicles, motorcycle, trucks
LOCATION:american legion fairgrounds
WEBSITE:
URL:
CONTACT:678-713-6220
ORGANIZER;CN="mark land":https://www.southeastwheelsevents.com/profile
 /markland
ATTACH;FMTTYPE="image/jpeg":
ATTENDEE;ROLE=REQ-PARTICIPANT;PARTSTAT=ACCEPTED;RSVP=TRUE;CN="mark lan
 d":https://www.southeastwheelsevents.com/profile/markland
END:VEVENT
END:VCALENDAR
