BEGIN:VCALENDAR
PRODID:NingEventWidget-v1
VERSION:2.0
METHOD:PUBLISH
BEGIN:VTIMEZONE
TZID:Pacific/Midway
X-LIC-LOCATION:Pacific/Midway
BEGIN:STANDARD
TZOFFSETFROM:-1100
TZOFFSETTO:-1100
TZNAME:SST
DTSTART:19700101T000000
END:STANDARD
END:VTIMEZONE
BEGIN:VEVENT
UID:5072275:Event:1193100
DTSTAMP:20260421T063326Z
SUMMARY:\"Virtual May\" Month at Caffeine & Octane! -NBC Sports Channe
 l
DESCRIPTION:\r\nSUBMIT EARLY - DEALINE APRIL 30th!\r\nSubmit a walkaro
 und video of your ride for consideration to be included in the upcomin
 g May 'Virtual Caffeine & Octane' Feature Video! Complete the form at 
 the link below and share an up to 90-second video. We are looking forw
 ard to creating another unique 'Virtual C&O' experience! The \"Virtual
  May C&O\" video will include selected fan submissions & flashback wal
 karound C&O interviews. Check it out on all official C&O channels on S
 unday, May 3rd at 8am. We appreciated everyone who submitted a video f
 or the \"Virtual April C&O\" and we are looking for more fan submissio
 ns for May. Want to be part of the May show?\r\nClick the link below f
 or more details and to submit a video of your ride. https://www.123for
 mbuilder.com/form-5401525/form\r\nCheck this one out: https://www.fac
 ebook.com/CaffeineAndOctane/videos/2356853657947003/?t=19\r\n\n\nFor m
 ore information visit https://www.southeastwheelsevents.com/events/vir
 tual-may-month-at-caffein-octane-nbc-sports-channel
DTSTART;TZID=Pacific/Midway:20200422T000000
DTEND;TZID=Pacific/Midway:20200429T235900
CATEGORIES:car, show, video, tv-show, gathering, online
LOCATION:NBC Sports Channel and YouTube
WEBSITE:https://www.facebook.com/CaffeineAndOctane/posts/3294861957204
 426
URL:https://www.facebook.com/CaffeineAndOctane/posts/3294861957204426
CONTACT:https://www.caffeineandoctane.com/
ORGANIZER:High Octane Events, LLC
ATTACH;FMTTYPE="image/jpeg":https://storage.ning.com/topology/rest/1.0
 /file/get/4141155813?profile=original
ATTENDEE;ROLE=REQ-PARTICIPANT;PARTSTAT=ACCEPTED;RSVP=TRUE;CN="Chuck Aa
 ron":https://www.southeastwheelsevents.com/profile/ChuckAaron886
END:VEVENT
END:VCALENDAR
