BEGIN:VCALENDAR
PRODID:NingEventWidget-v1
VERSION:2.0
METHOD:PUBLISH
BEGIN:VTIMEZONE
TZID:Pacific/Midway
X-LIC-LOCATION:Pacific/Midway
BEGIN:STANDARD
TZOFFSETFROM:-1100
TZOFFSETTO:-1100
TZNAME:SST
DTSTART:19700101T000000
END:STANDARD
END:VTIMEZONE
BEGIN:VEVENT
UID:5072275:Event:1086992
DTSTAMP:20260423T171945Z
SUMMARY:Volunteer State Auto Club's 28th Annual Show - Greeneville, TN
DESCRIPTION:Volunteer State Auto Club's 30th Annual Show.\r\nThe 2021 
 Volunteer State Auto Club Show!\r\nSaturday, June 26Hardin ParkGreenev
 ille, TN.10am-4pm\r\n\n\nFor more information visit https://www.southe
 astwheelsevents.com/events/volunteer-state-auto-club-s-28th-annual-sho
 w-greeneville-tn
DTSTART;TZID=Pacific/Midway:20210626T100000
DTEND;TZID=Pacific/Midway:20210626T160000
CATEGORIES:car, show
LOCATION:Hardin Park
WEBSITE:http://www.volunteerstateautoclub.org/
URL:http://www.volunteerstateautoclub.org/
CONTACT:Billy (423) 552-8376
ORGANIZER:Volunteer State Auto Clu
ATTACH;FMTTYPE="image/jpeg":http://storage.ning.com/topology/rest/1.0/
 file/get/967774146?profile=original
ATTENDEE;ROLE=REQ-PARTICIPANT;PARTSTAT=ACCEPTED;RSVP=TRUE;CN="Anthony 
 Hopkins":https://www.southeastwheelsevents.com/profile/AnthonyHopkins
END:VEVENT
END:VCALENDAR
