BEGIN:VCALENDAR
PRODID:NingEventWidget-v1
VERSION:2.0
METHOD:PUBLISH
BEGIN:VTIMEZONE
TZID:Pacific/Midway
X-LIC-LOCATION:Pacific/Midway
BEGIN:STANDARD
TZOFFSETFROM:-1100
TZOFFSETTO:-1100
TZNAME:SST
DTSTART:19700101T000000
END:STANDARD
END:VTIMEZONE
BEGIN:VEVENT
UID:5072275:Event:1275057
DTSTAMP:20260419T083746Z
SUMMARY:Vox Casino Polska
DESCRIPTION:Vox Casino Polska https://voxcasino-poland.pl to nowoczes
 ne internetowe kasyno online, które działa na międzynarodowej licen
 cji Curaçao i jest dostępne również dla graczy z Polski. Platforma
  oferuje szeroki wybór gier hazardowych, w tym automaty slotowe, gry 
 stołowe (takie jak blackjack, ruletka i poker) oraz kasyno na żywo z
  prawdziwymi krupierami. W bibliotece znajduje się kilka tysięcy tyt
 ułów od znanych dostawców, takich jak Pragmatic Play, NetEnt czy Ev
 olution Gaming, co zapewnia różnorodną i dynamiczną rozrywkę. Vox
  Casino wyróżnia się także rozbudowanym systemem bonusów, obejmuj
 ącym pakiety powitalne, darmowe spiny, cashback oraz programy lojalno
 ściowe dla stałych graczy. Platforma obsługuje różne metody płat
 ności, w tym karty bankowe, e-portfele i kryptowaluty, a także oferu
 je wersję mobilną umożliwiającą grę na smartfonach i tabletach. 
 Należy jednak pamiętać, że status prawny takich serwisów może si
 ę różnić w zależności od kraju, dlatego użytkownicy powinni zaw
 sze sprawdzać lokalne przepisy przed rozpoczęciem gry.\n\nFor more i
 nformation visit https://www.southeastwheelsevents.com/events/vox-casi
 no-polska
DTSTART;TZID=Pacific/Midway:20260419T180000
DTEND;TZID=Pacific/Midway:20270311T190000
CATEGORIES:vox, casino, polska
LOCATION:Berbin, Germany
WEBSITE:
URL:
CONTACT:2015550123
ORGANIZER;CN="Jean Parcks":https://www.southeastwheelsevents.com/profi
 le/JeanParcks
ATTACH;FMTTYPE="image/jpeg":
ATTENDEE;ROLE=REQ-PARTICIPANT;PARTSTAT=ACCEPTED;RSVP=TRUE;CN="Jean Par
 cks":https://www.southeastwheelsevents.com/profile/JeanParcks
END:VEVENT
END:VCALENDAR
