BEGIN:VCALENDAR
PRODID:NingEventWidget-v1
VERSION:2.0
METHOD:PUBLISH
BEGIN:VTIMEZONE
TZID:Pacific/Midway
X-LIC-LOCATION:Pacific/Midway
BEGIN:STANDARD
TZOFFSETFROM:-1100
TZOFFSETTO:-1100
TZNAME:SST
DTSTART:19700101T000000
END:STANDARD
END:VTIMEZONE
BEGIN:VEVENT
UID:5072275:Event:558285
DTSTAMP:20260422T203541Z
SUMMARY:Waco Baptist Church Car Show - Waco, GA
DESCRIPTION:Waco Baptist Church Car Show - Waco, GA\n\nFor more inform
 ation visit https://www.southeastwheelsevents.com/events/waco-baptist-
 church-car-show-waco-ga
DTSTART;TZID=Pacific/Midway:20170909T090000
DTEND;TZID=Pacific/Midway:20170909T150000
CATEGORIES:car-show
LOCATION:Waco Baptist Church
WEBSITE:
URL:
CONTACT:Danny 770-310-3203, 770-547-4544
ORGANIZER:Waco Baptist Church
ATTACH;FMTTYPE="image/jpeg":http://storage.ning.com/topology/rest/1.0/
 file/get/967623678?profile=original
ATTENDEE;ROLE=REQ-PARTICIPANT;PARTSTAT=ACCEPTED;RSVP=TRUE;CN="Jack Tho
 mas":https://www.southeastwheelsevents.com/profile/JackThomas
END:VEVENT
END:VCALENDAR
