BEGIN:VCALENDAR
PRODID:NingEventWidget-v1
VERSION:2.0
METHOD:PUBLISH
BEGIN:VTIMEZONE
TZID:Pacific/Midway
X-LIC-LOCATION:Pacific/Midway
BEGIN:STANDARD
TZOFFSETFROM:-1100
TZOFFSETTO:-1100
TZNAME:SST
DTSTART:19700101T000000
END:STANDARD
END:VTIMEZONE
BEGIN:VEVENT
UID:5072275:Event:59706
DTSTAMP:20260424T031314Z
SUMMARY:Wade Ford Drive-In Movie and Car Show
DESCRIPTION:Car Show\nsponsored by Wade Ford is a celebration of class
 ic American cars, cruising the drag, rock 'n roll music and the \"happ
 y days\" of the 50's and early 60's.\n\nTrophies will be given to crui
 sers based on viewers choice and all proceeds from the car show will g
 o to the Cobb County Parks, Recreation and Cultural Affairs Department
 .\n\nRegister your car at the Mable House Barnes Amphitheatre Box Offi
 ce for only $20.\n\nMOVIE: City Slickers\n\nRated PG-13\n\nThree city 
 slickers (Billy Crystal, Bruno Kirby, Daniel Stern) exchange business 
 meetings for cattle roundups and ties for lassoes in this contemporary
  Western comedy. When gravely voiced, leather-skinned cowboy Curly (Ja
 ck Palance) dies in the middle of their cattle drive, it is up to the 
 trio to lead the herd out of the Colorado plains and back to the ranch
 .\n\nFREE! Gates open at 5:00pm\nCar Show is at 6:00pm\nMovie starts a
 t dark (around 8:35pm)\nBring a picnic or buy snacks from our concessi
 ons\nMable House Barnes Amphitheatre\n5239 Floyd Rd, Mableton, GA 3012
 6\n\nhttp://mablehouse.org/amphitheatre-event-reader/events/wade-ford-
 drive-in-movie-series-city-slickers.html\n\nFor more information visit
  https://www.southeastwheelsevents.com/events/wade-ford-drivein-movie-
 and
DTSTART;TZID=Pacific/Midway:20100828T170000
DTEND;TZID=Pacific/Midway:20100828T230000
CATEGORIES:drive, in, abd, benefit, car, show
LOCATION:Mable House Barnes Amphitheatre
WEBSITE:http://ttp://mablehouse.org/amphitheatre-event-reader/events/w
 ade-ford-drive-in-movie-series-city-slickers.html
URL:http://ttp://mablehouse.org/amphitheatre-event-reader/events/wade-
 ford-drive-in-movie-series-city-slickers.html
CONTACT:770-819-7765
ORGANIZER:Rick MurpheyMable House Barnes Amphitheatre
ATTACH;FMTTYPE="image/jpeg":http://storage.ning.com/topology/rest/1.0/
 file/get/967581939?profile=original
ATTENDEE;ROLE=REQ-PARTICIPANT;PARTSTAT=ACCEPTED;RSVP=TRUE;CN="Snitch A
 dams":https://www.southeastwheelsevents.com/profile/SnitchAdams
ATTENDEE;ROLE=REQ-PARTICIPANT;PARTSTAT=ACCEPTED;RSVP=TRUE;CN="Rick Mur
 phey":https://www.southeastwheelsevents.com/profile/RickMurphey
END:VEVENT
END:VCALENDAR
