BEGIN:VCALENDAR
PRODID:NingEventWidget-v1
VERSION:2.0
METHOD:PUBLISH
BEGIN:VTIMEZONE
TZID:Pacific/Midway
X-LIC-LOCATION:Pacific/Midway
BEGIN:STANDARD
TZOFFSETFROM:-1100
TZOFFSETTO:-1100
TZNAME:SST
DTSTART:19700101T000000
END:STANDARD
END:VTIMEZONE
BEGIN:VEVENT
UID:5072275:Event:1032281
DTSTAMP:20260419T123322Z
SUMMARY:Wayne County Cruisers Arch Fest Car Show -Jesup, GA
DESCRIPTION:The Wayne County Cruisers Arch Fest Car Show is in with th
 e 15th Annual Jesup Arch Fest Festival in Down Town Jesup. there will 
 be lots of Food,Craft and various other vendors along with music and o
 ther live entertainment, We Will have 50/50 tickets and more. Car Show
  Special Awards will be Arch Fest Best, Ladies Choice, Kids Choice, Me
 n's Choice, Top Club Participation. The Class Trophies are Top 5 Antiq
 ue, Top 10 Classic, Top 10 Muscle Car, Top 10 1997 - 2017, Top 5 Impor
 ts, Top 5 Trucks, Top 5 Rat Rods, Top 5 Motorcycles, Top 3 Special Int
 erest.. pre-registration is $20 and $25 day of show. you can print you
 r registration forms from our Wayne County Cruisers Facebook page at 
 www.facebook.com/waynecountycruisers or @ www.waynecountycruisers.or
 g and you will also be able to pre-register and pay using paypal on t
 he website. for more information Contact Donald Sloan @ 912-294-0901 o
 r Denese Pipe @ 912-271-5053. All funds got to support our local chari
 ties CTI, Tabatha's Place , our Children with Disabilities Fund.\n\nF
 or more information visit https://www.southeastwheelsevents.com/events
 /wayne-county-cruisers-arch-fest-car-show
DTSTART;TZID=Pacific/Midway:20171028T100000
DTEND;TZID=Pacific/Midway:20171028T150000
CATEGORIES:carshow, "&amp", festival
LOCATION:West Walnut Street Jesup Ga
WEBSITE:http://waynecountycruisers@hotmail.com
URL:http://waynecountycruisers@hotmail.com
CONTACT:(912) 294-0901
ORGANIZER;CN="Donald Sloan":https://www.southeastwheelsevents.com/prof
 ile/DonaldSloan895
ATTACH;FMTTYPE="image/jpeg":http://storage.ning.com/topology/rest/1.0/
 file/get/967731017?profile=original
ATTENDEE;ROLE=REQ-PARTICIPANT;PARTSTAT=ACCEPTED;RSVP=TRUE;CN="Donald S
 loan":https://www.southeastwheelsevents.com/profile/DonaldSloan895
ATTENDEE;ROLE=REQ-PARTICIPANT;PARTSTAT=ACCEPTED;RSVP=TRUE;CN="Chuck Aa
 ron":https://www.southeastwheelsevents.com/profile/ChuckAaron886
END:VEVENT
END:VCALENDAR
