BEGIN:VCALENDAR
PRODID:NingEventWidget-v1
VERSION:2.0
METHOD:PUBLISH
BEGIN:VTIMEZONE
TZID:Pacific/Midway
X-LIC-LOCATION:Pacific/Midway
BEGIN:STANDARD
TZOFFSETFROM:-1100
TZOFFSETTO:-1100
TZNAME:SST
DTSTART:19700101T000000
END:STANDARD
END:VTIMEZONE
BEGIN:VEVENT
UID:5072275:Event:1111312
DTSTAMP:20260424T045714Z
SUMMARY:Wayne County Cruisers 'Crusin' Into Christmas\" Car Show - Jes
 up, Ga
DESCRIPTION:Wayne County Cruisers 'Crusin' Into Christmas\" Car Show a
 t Wayne Memorial Hospital Campus, 865 South First Street.\n\nFor more 
 information visit https://www.southeastwheelsevents.com/events/wayne-c
 ounty-cruisers-crusin-into-christmas-car-show-jesup-ga
DTSTART;TZID=Pacific/Midway:20181201T100000
DTEND;TZID=Pacific/Midway:20181201T150000
CATEGORIES:car, show, cruise, in
LOCATION:Wayne Memorial Hospital Campus,
WEBSITE:http://waynecountycruisers.org
URL:http://waynecountycruisers.org
CONTACT:(912) 294-0901, (912) 271¬5053
ORGANIZER:Donald Sloan, Denese Pipe
ATTACH;FMTTYPE="image/jpeg":http://storage.ning.com/topology/rest/1.0/
 file/get/967804303?profile=original
ATTENDEE;ROLE=REQ-PARTICIPANT;PARTSTAT=ACCEPTED;RSVP=TRUE;CN="Anthony 
 Hopkins":https://www.southeastwheelsevents.com/profile/AnthonyHopkins
END:VEVENT
END:VCALENDAR
