BEGIN:VCALENDAR
PRODID:NingEventWidget-v1
VERSION:2.0
METHOD:PUBLISH
BEGIN:VTIMEZONE
TZID:Pacific/Midway
X-LIC-LOCATION:Pacific/Midway
BEGIN:STANDARD
TZOFFSETFROM:-1100
TZOFFSETTO:-1100
TZNAME:SST
DTSTART:19700101T000000
END:STANDARD
END:VTIMEZONE
BEGIN:VEVENT
UID:5072275:Event:1032277
DTSTAMP:20260424T055905Z
SUMMARY:Wayne County Cruisers Dogwood Festival Car Show -Jesup, GA
DESCRIPTION:\n\nFor more information visit https://www.southeastwheels
 events.com/events/wayne-county-cruisers-dogwood-festival-car-show
DTSTART;TZID=Pacific/Midway:20180224T100000
DTEND;TZID=Pacific/Midway:20180224T150000
CATEGORIES:carshow, "&amp", festival
LOCATION:Jaycee Fairgrounds
WEBSITE:http://www.waynecountycruisers.org/dogwood-festival-2017/
URL:http://www.waynecountycruisers.org/dogwood-festival-2017/
CONTACT:(912) 294-0901
ORGANIZER;CN="Donald Sloan":https://www.southeastwheelsevents.com/prof
 ile/DonaldSloan895
ATTACH;FMTTYPE="image/jpeg":http://storage.ning.com/topology/rest/1.0/
 file/get/967733242?profile=original
ATTENDEE;ROLE=REQ-PARTICIPANT;PARTSTAT=ACCEPTED;RSVP=TRUE;CN="Donald S
 loan":https://www.southeastwheelsevents.com/profile/DonaldSloan895
END:VEVENT
END:VCALENDAR
