BEGIN:VCALENDAR
PRODID:NingEventWidget-v1
VERSION:2.0
METHOD:PUBLISH
BEGIN:VTIMEZONE
TZID:Pacific/Midway
X-LIC-LOCATION:Pacific/Midway
BEGIN:STANDARD
TZOFFSETFROM:-1100
TZOFFSETTO:-1100
TZNAME:SST
DTSTART:19700101T000000
END:STANDARD
END:VTIMEZONE
BEGIN:VEVENT
UID:5072275:Event:1082799
DTSTAMP:20260425T031941Z
SUMMARY:\"we 've Been there\" Benefit for Local Families-Wedowee AL
DESCRIPTION:\"we 've Been there\" Benefit for Local Families\n\nFor mo
 re information visit https://www.southeastwheelsevents.com/events/we-v
 e-been-there-benefit-for-local-families-wedowee-al
DTSTART;TZID=Pacific/Midway:20180505T100000
DTEND;TZID=Pacific/Midway:20180505T140000
CATEGORIES:benefit, for, local, families
LOCATION:Noon day life center
WEBSITE:
URL:
CONTACT:(265)-525-1370
ORGANIZER:Paul Davis
ATTACH;FMTTYPE="image/jpeg":http://storage.ning.com/topology/rest/1.0/
 file/get/967766010?profile=original
ATTENDEE;ROLE=REQ-PARTICIPANT;PARTSTAT=ACCEPTED;RSVP=TRUE;CN="Anthony 
 Hopkins":https://www.southeastwheelsevents.com/profile/AnthonyHopkins
END:VEVENT
END:VCALENDAR
