BEGIN:VCALENDAR
PRODID:NingEventWidget-v1
VERSION:2.0
METHOD:PUBLISH
BEGIN:VTIMEZONE
TZID:Pacific/Midway
X-LIC-LOCATION:Pacific/Midway
BEGIN:STANDARD
TZOFFSETFROM:-1100
TZOFFSETTO:-1100
TZNAME:SST
DTSTART:19700101T000000
END:STANDARD
END:VTIMEZONE
BEGIN:VEVENT
UID:5072275:Event:858109
DTSTAMP:20260419T091539Z
SUMMARY:Webster Westside Cycle and Auto Swap Meet and Show -Webster, F
 L
DESCRIPTION:The Webster Westside Cycle and Auto Swap Meet and Show wil
 l be held at Webster Westside Flea Market in Webster, Florida \r\n  L
 ocation: \r\n-Webster Westside Flea Market in Webster, Florida (516 NW
  3rd Street, Webster, FL 33597)\r\n\r\nEvery 1st Sunday of the month, 
 Webster Westside Flea Market presents an outstanding Car and Motorcycl
 e Swap Meet & Show! More than 300 filled vendor spaces bringing both n
 ew and used parts and related merchandise for a day of dealing. Here's
  where you find everything from that unique part you've been looking f
 or, to a ready-made project car or motorcycle or even a brand new cust
 om ride. In the corral, you can either buy or sell a car or bike.\r\n\
 r\nThe Show awards trophies and cash prizes! Shine up and bring your c
 ar or motorcycle and get in on the action. There is a special trophy a
 nd cash prize for clubs and organizations that bring 10 or more member
 s.\r\n  Please Contact For More Information:-(800) 832-3477  We hope t
 o see you there!\n\nFor more information visit https://www.southeastwh
 eelsevents.com/events/webster-westside-cycle-and-auto-swap-meet-and-sh
 ow-webster-fl-1
DTSTART;TZID=Pacific/Midway:20171105T080000
DTEND;TZID=Pacific/Midway:20171105T210000
CATEGORIES:cycle, and, auto, swap, meet, show
LOCATION:Westside Flea Market
WEBSITE:http://www.cyclemeet.com
URL:http://www.cyclemeet.com
CONTACT:800-832-3477
ORGANIZER:Webster Westside Flea Market
ATTACH;FMTTYPE="image/jpeg":http://storage.ning.com/topology/rest/1.0/
 file/get/967674339?profile=original
ATTENDEE;ROLE=REQ-PARTICIPANT;PARTSTAT=ACCEPTED;RSVP=TRUE;CN="Chuck Aa
 ron":https://www.southeastwheelsevents.com/profile/ChuckAaron
END:VEVENT
END:VCALENDAR
