BEGIN:VCALENDAR
PRODID:NingEventWidget-v1
VERSION:2.0
METHOD:PUBLISH
BEGIN:VTIMEZONE
TZID:Pacific/Midway
X-LIC-LOCATION:Pacific/Midway
BEGIN:STANDARD
TZOFFSETFROM:-1100
TZOFFSETTO:-1100
TZNAME:SST
DTSTART:19700101T000000
END:STANDARD
END:VTIMEZONE
BEGIN:VEVENT
UID:5072275:Event:1028096
DTSTAMP:20260424T133712Z
SUMMARY:Wednesday Carolina Auto Auction
DESCRIPTION:Wednesday Carolina Auto Auction will happen at Carolina Au
 to Auction,140 Webb Road Williamston, South Carolina 29697 United Stat
 es. Over 1000 Units Expected! FR, LB & R lanes start at 10:00 am; S La
 ne starts at 10:15 am; and all other lanes begin at 10:30 am. Join us 
 for a great offering this week! All lanes now offered online; NAAA Arb
 itration standards apply. End time may change.\n\nFor more information
  visit https://www.southeastwheelsevents.com/events/wednesday-carolina
 -auto-auction-2
DTSTART;TZID=Pacific/Midway:20170118T100000
DTEND;TZID=Pacific/Midway:20170118T140000
CATEGORIES:cars, trucks, "auction/swap"
LOCATION:Carolina Auto Auction
WEBSITE:http://www.carolinaautoauction.com/index.php/event/
URL:http://www.carolinaautoauction.com/index.php/event/
CONTACT:
ORGANIZER:Carolina Auto Auction
ATTACH;FMTTYPE="image/jpeg":http://storage.ning.com/topology/rest/1.0/
 file/get/967727045?profile=original
ATTENDEE;ROLE=REQ-PARTICIPANT;PARTSTAT=ACCEPTED;RSVP=TRUE;CN="Chris go
 sney":https://www.southeastwheelsevents.com/profile/Chrisgosney
END:VEVENT
END:VCALENDAR
