BEGIN:VCALENDAR
PRODID:NingEventWidget-v1
VERSION:2.0
METHOD:PUBLISH
BEGIN:VTIMEZONE
TZID:Pacific/Midway
X-LIC-LOCATION:Pacific/Midway
BEGIN:STANDARD
TZOFFSETFROM:-1100
TZOFFSETTO:-1100
TZNAME:SST
DTSTART:19700101T000000
END:STANDARD
END:VTIMEZONE
BEGIN:VEVENT
UID:5072275:Event:1024754
DTSTAMP:20260420T035831Z
SUMMARY:Wednesday Weekly Dealers Auto Auction - Murfreesboro
DESCRIPTION:Wednesday Weekly Dealers Auto Auction - Murfreesboro will 
 be held at Dealers Auto Auction - Murfreesboro, TN. New car trades or 
 fleet/lease consignments, repos to top quality wholesale units. Inops 
 beginning at 2.00pm. Auction starts at 2.30pm. End time may change.\n\
 nFor more information visit https://www.southeastwheelsevents.com/even
 ts/wednesday-weekly-dealers-auto-auction-murfreesboro-1
DTSTART;TZID=Pacific/Midway:20161220T140000
DTEND;TZID=Pacific/Midway:20161220T170000
CATEGORIES:business, cars, "auction/swap"
LOCATION:Dealers Auto Auction - Murfreesboro
WEBSITE:https://www.dealersauto.com/calendar/
URL:https://www.dealersauto.com/calendar/
CONTACT:
ORGANIZER:Dealer's Auto Auction - Mobile
ATTACH;FMTTYPE="image/jpeg":http://storage.ning.com/topology/rest/1.0/
 file/get/967718952?profile=original
ATTENDEE;ROLE=REQ-PARTICIPANT;PARTSTAT=ACCEPTED;RSVP=TRUE;CN="Chris go
 sney":https://www.southeastwheelsevents.com/profile/Chrisgosney
END:VEVENT
END:VCALENDAR
