BEGIN:VCALENDAR
PRODID:NingEventWidget-v1
VERSION:2.0
METHOD:PUBLISH
BEGIN:VTIMEZONE
TZID:Pacific/Midway
X-LIC-LOCATION:Pacific/Midway
BEGIN:STANDARD
TZOFFSETFROM:-1100
TZOFFSETTO:-1100
TZNAME:SST
DTSTART:19700101T000000
END:STANDARD
END:VTIMEZONE
BEGIN:VEVENT
UID:5072275:Event:1027649
DTSTAMP:20260424T071750Z
SUMMARY:Wednesday Weekly Georgia Carolina Auto Auction
DESCRIPTION:Wednesday Weekly Georgia Carolina Auto Auction. Located of
 f I-85, Exit 149, near Atlanta Drag Way in Commerce, GA. Auction Sched
 ule: Wednesday at 5:00 PM. End time may change\n\nFor more information
  visit https://www.southeastwheelsevents.com/events/wednesday-weekly-g
 eorgia-carolina-auto-auction-2
DTSTART;TZID=Pacific/Midway:20170125T170000
DTEND;TZID=Pacific/Midway:20170125T190000
CATEGORIES:cars, trucks, "auction/swap"
LOCATION:GC Auto Auction
WEBSITE:http://www.gcautoauction.com/
URL:http://www.gcautoauction.com/
CONTACT:
ORGANIZER:GC Auto Auction
ATTACH;FMTTYPE="image/jpeg":http://storage.ning.com/topology/rest/1.0/
 file/get/967723791?profile=original
ATTENDEE;ROLE=REQ-PARTICIPANT;PARTSTAT=ACCEPTED;RSVP=TRUE;CN="Chris go
 sney":https://www.southeastwheelsevents.com/profile/Chrisgosney
END:VEVENT
END:VCALENDAR
