BEGIN:VCALENDAR
PRODID:NingEventWidget-v1
VERSION:2.0
METHOD:PUBLISH
BEGIN:VTIMEZONE
TZID:Pacific/Midway
X-LIC-LOCATION:Pacific/Midway
BEGIN:STANDARD
TZOFFSETFROM:-1100
TZOFFSETTO:-1100
TZNAME:SST
DTSTART:19700101T000000
END:STANDARD
END:VTIMEZONE
BEGIN:VEVENT
UID:5072275:Event:1027842
DTSTAMP:20260424T110912Z
SUMMARY:Wednesday Weekly Peach State Auto Auction
DESCRIPTION:Wednesday Weekly Peach State Auto Auction. Auctions every 
 Wednesday at 5 pm and allow guests to preview the vehicles that will b
 e run that night starting at 4 pm. Over 400 cars, trucks, SUV's in all
  Makes, Models, and Years, Vehicles offered at our Auction are from Lo
 cal Dealers inventory, New Car Store trade-ins, Finance Company Reposs
 essions, Fleet Sales, Individuals and Donated Vehicles. End time may C
 hange.\n\nFor more information visit https://www.southeastwheelsevents
 .com/events/wednesday-weekly-peach-state-auto-auction-2
DTSTART;TZID=Pacific/Midway:20170125T160000
DTEND;TZID=Pacific/Midway:20170125T190000
CATEGORIES:cars, trucks, "auction/swap"
LOCATION:Peach State Auto Auction
WEBSITE:https://www.facebook.com/psaaonline/
URL:https://www.facebook.com/psaaonline/
CONTACT:
ORGANIZER:Peach State Auto Auction
ATTACH;FMTTYPE="image/jpeg":http://storage.ning.com/topology/rest/1.0/
 file/get/967725927?profile=original
ATTENDEE;ROLE=REQ-PARTICIPANT;PARTSTAT=ACCEPTED;RSVP=TRUE;CN="Chris go
 sney":https://www.southeastwheelsevents.com/profile/Chrisgosney
END:VEVENT
END:VCALENDAR
