BEGIN:VCALENDAR
PRODID:NingEventWidget-v1
VERSION:2.0
METHOD:PUBLISH
BEGIN:VTIMEZONE
TZID:Pacific/Midway
X-LIC-LOCATION:Pacific/Midway
BEGIN:STANDARD
TZOFFSETFROM:-1100
TZOFFSETTO:-1100
TZNAME:SST
DTSTART:19700101T000000
END:STANDARD
END:VTIMEZONE
BEGIN:VEVENT
UID:5072275:Event:908473
DTSTAMP:20260425T012159Z
SUMMARY:Weekly Cruise -Clover, SC
DESCRIPTION:Okay everybody come Wednesday night at 7 p.m. for our week
 ly cruise at Courtney's BBQ for and great prices don't forget about th
 e 50 50 also there will be a cornhole tournament that you can be apart
  of great food and great company all starting at 7 p.m. Wednesday nigh
 t — at Courtneys BBQ.\n1166 Highway 55 E\nClover, South Carolina\n
 \n\n\n\n\n(803) 222-5900\n\n\n\nFor more information visit https://www
 .southeastwheelsevents.com/events/weekly-cruise-clover-sc-7
DTSTART;TZID=Pacific/Midway:20150902T190000
DTEND;TZID=Pacific/Midway:20150902T220000
CATEGORIES:cruise, in, and, car, showcornhole
LOCATION:Courtneys BBQ
WEBSITE:https://www.facebook.com/photo.php?fbid=10203788077456033&set=
 a.1297754817596.35234.1642150721&type=1&fref=nf
URL:https://www.facebook.com/photo.php?fbid=10203788077456033&set=a.12
 97754817596.35234.1642150721&type=1&fref=nf
CONTACT:(803) 222-5900
ORGANIZER:Ray Tuttle
ATTACH;FMTTYPE="image/jpeg":http://storage.ning.com/topology/rest/1.0/
 file/get/967690243?profile=original
ATTENDEE;ROLE=REQ-PARTICIPANT;PARTSTAT=ACCEPTED;RSVP=TRUE;CN="Chuck Aa
 ron":https://www.southeastwheelsevents.com/profile/ChuckAaron
END:VEVENT
END:VCALENDAR
